BEGIN:VCALENDAR
VERSION:2.0
PRODID:-//Tennis Club Fontenilles - ECPv6.15.16//NONSGML v1.0//EN
CALSCALE:GREGORIAN
METHOD:PUBLISH
X-WR-CALNAME:Tennis Club Fontenilles
X-ORIGINAL-URL:https://tennis-fontenilles.fr
X-WR-CALDESC:Évènements pour Tennis Club Fontenilles
REFRESH-INTERVAL;VALUE=DURATION:PT1H
X-Robots-Tag:noindex
X-PUBLISHED-TTL:PT1H
BEGIN:VTIMEZONE
TZID:Europe/Paris
BEGIN:DAYLIGHT
TZOFFSETFROM:+0100
TZOFFSETTO:+0200
TZNAME:CEST
DTSTART:20230326T010000
END:DAYLIGHT
BEGIN:STANDARD
TZOFFSETFROM:+0200
TZOFFSETTO:+0100
TZNAME:CET
DTSTART:20231029T010000
END:STANDARD
BEGIN:DAYLIGHT
TZOFFSETFROM:+0100
TZOFFSETTO:+0200
TZNAME:CEST
DTSTART:20240331T010000
END:DAYLIGHT
BEGIN:STANDARD
TZOFFSETFROM:+0200
TZOFFSETTO:+0100
TZNAME:CET
DTSTART:20241027T010000
END:STANDARD
BEGIN:DAYLIGHT
TZOFFSETFROM:+0100
TZOFFSETTO:+0200
TZNAME:CEST
DTSTART:20250330T010000
END:DAYLIGHT
BEGIN:STANDARD
TZOFFSETFROM:+0200
TZOFFSETTO:+0100
TZNAME:CET
DTSTART:20251026T010000
END:STANDARD
END:VTIMEZONE
BEGIN:VEVENT
DTSTART;TZID=Europe/Paris:20240407T000000
DTEND;TZID=Europe/Paris:20240407T235959
DTSTAMP:20260421T092749
CREATED:20240210T163421Z
LAST-MODIFIED:20240420T144755Z
UID:5363-1712448000-1712534399@tennis-fontenilles.fr
SUMMARY:Interclubs Occitanie Dames
DESCRIPTION:TCF 1 vs Fronton TC 1 \n\n\n\nRésultat de la rencontre : 6/0 \n\n\n\nSimple 1 : Isabelle Santal (4/6) vs Sandrine Stival (15/1) : 6/0 6/0 \n\n\n\nSimple 2 : Mélina Berthonnier (15/1) vs Nadine Gardin (15/3) : 6/1 6/1 \n\n\n\nSimple 3 : Inès Laurent (15/3) vs Célia Armingaud (15/5) : 6/1 6/0 \n\n\n\nSimple 4 : Florence Kuijpers (15/3) vs Gabrielle Beringuie (15/5) : 6/4 6/1 \n\n\n\nDouble 1 : Isabelle Santal (4/6 – 4) & Inès Laurent (15/3 – 9) vs Nathalie Delmas ( 15/3 – 9) & Célia Armingaud (15/5 – 11) : 6/2 6/1 \n\n\n\nDouble 2 : Mélina Berthonnier (15/1 – 7) & Florence Kuijpers (15/3 – 9) vs Gabrielle Beringuie (15/5 – 11) & Nadine Gardin (15/3 – 9) : 6/0 6/1 \n\n\n\nGras = Fontenilloises
URL:https://tennis-fontenilles.fr/event/interclubs-occitanie-dames-2/
CATEGORIES:Match par équipe Femmes
END:VEVENT
BEGIN:VEVENT
DTSTART;TZID=Europe/Paris:20240407T000000
DTEND;TZID=Europe/Paris:20240407T235959
DTSTAMP:20260421T092749
CREATED:20240210T163518Z
LAST-MODIFIED:20240420T145114Z
UID:5365-1712448000-1712534399@tennis-fontenilles.fr
SUMMARY:Caisse d'Epargne Messieurs
DESCRIPTION:TCF 2 vs Colomiers US 8 \n\n\n\nRésultat de la rencontre : 3/3 \n\n\n\nSimple 1 : Frédéric Ruiz (30) vs Valentin Lecerf (15/4) : 3/6 6/3 7/6(8) \n\n\n\nSimple 2 : Stéphane Van Baeveghem (30/1) vs Julien Pelegri (30/1) : 7/5 7/6(7) \n\n\n\nSimple 3 : Bastien Galea (30/1) vs Romain Puissegur (30/1) : 4/6 0/6 \n\n\n\nSimple 4 : Yann Bholah (30/1) vs Gaetan Robin (NC) : 6/2 6/4 \n\n\n\nDouble : Frédéric Ruiz (30 – 12) & Stéphane Van Baeveghem (30/1 – 13) vs Valentin Lecerf (15/4 – 10) & Romain Puissegur (30/1 – 13) : 2/6 7/5 4/10* \n\n\n\nGras = Fontenillois /* Super tie-break
URL:https://tennis-fontenilles.fr/event/caisse-depargne-messieurs-3/
CATEGORIES:Match par équipe Hommes
END:VEVENT
BEGIN:VEVENT
DTSTART;TZID=Europe/Paris:20240407T000000
DTEND;TZID=Europe/Paris:20240407T235959
DTSTAMP:20260421T092749
CREATED:20240210T163652Z
LAST-MODIFIED:20240420T145424Z
UID:5367-1712448000-1712534399@tennis-fontenilles.fr
SUMMARY:Caisse d'Epargne Dames
DESCRIPTION:Boulogne sur Gesse TC 1 vs TCF 2 \n\n\n\nRésultat de la rencontre : 4/1 \n\n\n\nSimple 1 : Nadiia Heynen (15/3) vs Sandra Gayraud (15/4) : 6/3 6/3 \n\n\n\nSimple 2 : Laura Mathieu (30/1) vs Laetitia Carmouze (15/5) : 6/2 4/6 0/6 \n\n\n\nSimple 3 : Céline Cassol (30/1) vs Alexia Dray (30/2) : 6/3 6/4 \n\n\n\nDouble : Nadiia Heymen (15/3 – 9) & Laura Mathieu (30/1 – 13) vs Léna Baillus (30 – 12) & Sandra Gayraud (15/4 – 10) : 6/2 6/3 \n\n\n\nGras = Fontenilloises
URL:https://tennis-fontenilles.fr/event/caisse-depargne-messieurs-4/
CATEGORIES:Match par équipe Femmes
END:VEVENT
BEGIN:VEVENT
DTSTART;TZID=Europe/Paris:20240409T000000
DTEND;TZID=Europe/Paris:20240409T235959
DTSTAMP:20260421T092749
CREATED:20240120T163803Z
LAST-MODIFIED:20240420T145756Z
UID:5276-1712620800-1712707199@tennis-fontenilles.fr
SUMMARY:Beaumont sur Lèze Messieurs 35+
DESCRIPTION:Colomiers US 2 vs TCF 1 \n\n\n\nRésultat de la rencontre : 0/4 \n\n\n\nSimple 1 : Frédéric Ruiz (30) vs Thibaut Contamin (30) : 7/5 6/1 \n\n\n\nSimple 2 : Rémi Dailly (30/1) vs Sébastien Cattelain (30/1) : 6/4 6/4 \n\n\n\nDouble : Eric Phegnon (30/2 – 14) & Nicolas Jolivet (30/1 – 13) vs Francisco Gutierrez (30/3 – 15) & Arnaud Carra (30/2 – 14) : 5/7 6/2 10/2* \n\n\n\nGras = Fontenillois
URL:https://tennis-fontenilles.fr/event/beaumont-sur-leze-messieurs-35-2/
CATEGORIES:Match par équipe Hommes
END:VEVENT
BEGIN:VEVENT
DTSTART;TZID=Europe/Paris:20240409T000000
DTEND;TZID=Europe/Paris:20240409T235959
DTSTAMP:20260421T092749
CREATED:20240120T163904Z
LAST-MODIFIED:20240420T150025Z
UID:5278-1712620800-1712707199@tennis-fontenilles.fr
SUMMARY:Beaumont sur Lèze Dames 35+
DESCRIPTION:Seysses TC 1 vs TCF 1 \n\n\n\nRésultat de la rencontre : 1/3 \n\n\n\nSimple 1 : Marie Jose Gante (30/2) vs Laetitia Carmouze (15/5) : 6/3 6/2 \n\n\n\nSimple 2 : Marie Ange Antunes Koffel (30/3) vs Sandy Dailly (30/1) : 0/6 0/6 \n\n\n\nDouble : Valérie Vogt (30/1 – 13) & Magalie Deleris (30/1 – 13) vs Sandra Gayraud (15/4 – 10) & Alexia Dray (30/2 – 14) : 3/6 6/2 6/10* \n\n\n\nGras = Fontenilloises /*Super tie-break
URL:https://tennis-fontenilles.fr/event/beaumont-sur-leze-dames-35-2/
CATEGORIES:Match par équipe Femmes
END:VEVENT
BEGIN:VEVENT
DTSTART;TZID=Europe/Paris:20240411T000000
DTEND;TZID=Europe/Paris:20240411T235959
DTSTAMP:20260421T092749
CREATED:20231130T141928Z
LAST-MODIFIED:20240420T150222Z
UID:4895-1712793600-1712879999@tennis-fontenilles.fr
SUMMARY:Challenge Edouard Touquet Messieurs
DESCRIPTION:Eaunes TC 2 vs TCF 7 \n\n\n\nRésultat de la rencontre : 2/2 \n\n\n\nSimple 1 : Pierre Lhussa (30/5) vs Eric Danizan (40) : 6/1 6/2 \n\n\n\nSimple 2 : Olivier Alves (40) vs Ludovic Lannegrand (40) : 7/5 7/5 \n\n\n\nDouble : Julien Cabannes (40 – 18) & Benoit Peccolo (40 – 18) vs Sébastien Maïnella (40 – 18) & Ludovic Lannegrand (40 – 18) : 3/6 3/6 \n\n\n\nGras = Fontenillois
URL:https://tennis-fontenilles.fr/event/challenge-edouard-touquet-messieurs-8/
CATEGORIES:Match par équipe Hommes
END:VEVENT
BEGIN:VEVENT
DTSTART;TZID=Europe/Paris:20240411T000000
DTEND;TZID=Europe/Paris:20240411T235959
DTSTAMP:20260421T092749
CREATED:20240120T163509Z
LAST-MODIFIED:20240420T150517Z
UID:5274-1712793600-1712879999@tennis-fontenilles.fr
SUMMARY:Challenge Edouard Touquet Messieurs 55+
DESCRIPTION:TCF 1 vs Saint-Lys TC 1 \n\n\n\nRésultat de la rencontre : 1/3 \n\n\n\nSimple 1 : Dominique Semmartin (30/4) vs Philippe Artaud (30/1) : 4/6 0/6 \n\n\n\nSimple 2 : Gérard Gorse (30/4) vs Philippe Verdier (40) : 6/2 6/1 \n\n\n\nDouble : Philippe Rousset (30/5 – 17) & Didier Berthonnier (40 – 18) vs Jean-Luc Leon-Dufour (30/1 – 13) & Franc Cournet (30/2 – 14) : 3/6 1/6 \n\n\n\nGras = Fontenillois
URL:https://tennis-fontenilles.fr/event/challenge-edouard-touquet-messieurs-55-2/
CATEGORIES:Match par équipe Hommes
END:VEVENT
BEGIN:VEVENT
DTSTART;TZID=Europe/Paris:20240414T000000
DTEND;TZID=Europe/Paris:20240414T235959
DTSTAMP:20260421T092749
CREATED:20240210T163746Z
LAST-MODIFIED:20240420T150539Z
UID:5369-1713052800-1713139199@tennis-fontenilles.fr
SUMMARY:Caisse d'Epargne Messieurs
DESCRIPTION:TCF 1 vs Vic-Fezensac TC 3 \n\n\n\nRésultat de la rencontre : 5/0 \n\n\n\nWO Vic-Fezensac
URL:https://tennis-fontenilles.fr/event/caisse-depargne-messieurs-5/
CATEGORIES:Match par équipe Hommes
END:VEVENT
BEGIN:VEVENT
DTSTART;TZID=Europe/Paris:20240414T000000
DTEND;TZID=Europe/Paris:20240414T235959
DTSTAMP:20260421T092749
CREATED:20240210T163941Z
LAST-MODIFIED:20240420T151012Z
UID:5372-1713052800-1713139199@tennis-fontenilles.fr
SUMMARY:Caisse d'Epargne Dames
DESCRIPTION:Tennis Squash Les Peupliers 2 vs TCF 2 \n\n\n\nRésultat de la rencontre : 1/4 \n\n\n\nSimple 1 : Delphine Dubarry (30) vs Sandra Gayraud (15/4) : 1/6 6/3 4/6 \n\n\n\nSimple 2 : Lucie Prieto (30/1) vs Constance Chalard (30/1) : 3/6 3/6 \n\n\n\nSimple 3 : Isabelle Benejam (30/1) vs Valérie Berthonnier (30/1) : 6/1 6/3 \n\n\n\nDouble : Héléne Bazerque (30/2 – 14) & Delphine Dubarry (30 – 12) vs Sandra Gayraud (15/4 – 10) & Constance Chalard (30/1 – 13) : 3/6 3/6 \n\n\n\nGras = Fontenilloises
URL:https://tennis-fontenilles.fr/event/caisse-depargne-dames/
CATEGORIES:Match par équipe Femmes
END:VEVENT
BEGIN:VEVENT
DTSTART;TZID=Europe/Paris:20240415T000000
DTEND;TZID=Europe/Paris:20240415T235959
DTSTAMP:20260421T092749
CREATED:20231130T142021Z
LAST-MODIFIED:20240420T153334Z
UID:4897-1713139200-1713225599@tennis-fontenilles.fr
SUMMARY:Challenge Edouard Touquet Messieurs
DESCRIPTION:TCF 1 vs Puydaniel TC 1  \n\n\n\nRésultat de la rencontre : 3/1 \n\n\n\nSimple 1 : Rémi Dailly (30/1) vs Stéphane Rouille (30/1) : 6/1 6/1 \n\n\n\nSimple 2 : Bastien Galea (30/1) vs Mathieu Labidoire (30/1) : 2/6 0/6 \n\n\n\nDouble : Frédéric Ruiz (30 – 12) & Romain Cappellaro (30 – 12) vs Mathieu Labidoire (30/1 – 13) & Stéphane Rouille (30/1 – 13) : 7/5 6/1 \n\n\n\nGras = Fontenillois
URL:https://tennis-fontenilles.fr/event/challenge-edouard-touquet-messieurs-9/
CATEGORIES:Match par équipe Hommes
END:VEVENT
BEGIN:VEVENT
DTSTART;TZID=Europe/Paris:20240415T000000
DTEND;TZID=Europe/Paris:20240415T235959
DTSTAMP:20260421T092749
CREATED:20231130T142110Z
LAST-MODIFIED:20240420T152439Z
UID:4899-1713139200-1713225599@tennis-fontenilles.fr
SUMMARY:Challenge Edouard Touquet Messieurs
DESCRIPTION:TCF 3 vs Portet 7  \n\n\n\nRésultat de la rencontre : 3/1 \n\n\n\nSimple 1 : Anthony Rubio (40) vs Matiheu Montariol (40) : 1/6 1/6 \n\n\n\nSimple 2 : Jean-Christophe Ricard (40) vs Marc Miatto (40) : 6/3 6/2 \n\n\n\nDouble : Paul Kuijpers (30/5 – 17) & Nicolas Wiel (30/4 – 16) vs Nicolas Bouny (40 – 18) & Mathieu Montariol (40 – 18) : 3/6 6/3 10/6* \n\n\n\nGras = Fontenillois /*Super tie-break
URL:https://tennis-fontenilles.fr/event/challenge-edouard-touquet-messieurs-10/
CATEGORIES:Match par équipe Hommes
END:VEVENT
BEGIN:VEVENT
DTSTART;TZID=Europe/Paris:20240415T000000
DTEND;TZID=Europe/Paris:20240415T235959
DTSTAMP:20260421T092749
CREATED:20231130T142159Z
LAST-MODIFIED:20240420T152929Z
UID:4901-1713139200-1713225599@tennis-fontenilles.fr
SUMMARY:Challenge Edouard Touquet Messieurs
DESCRIPTION:Eaunes TC 1 vs TCF 2  \n\n\n\nRésultat de la rencontre : 1/3 \n\n\n\nSimple 1 : Patrice Jegun (30/2) vs Nicolas Jolivet (30/1) : 7/5 6/3 \n\n\n\nSimple 2 : Adrien Penneroux (30/2) vs Eric Phegnon (30/2) : 7/5 6/7 6/10* \n\n\n\nDouble : Patrice Jegun (30/2 – 14) & Didier Galy (30/3 – 15) vs Denis Favre-Félix (30/2 – 14) & Cyril Couvin (30/2 – 14) : 7/5 5/7 4/10* \n\n\n\nGras = Fontenillois /*Super tie-break
URL:https://tennis-fontenilles.fr/event/challenge-edouard-touquet-messieurs-11/
CATEGORIES:Match par équipe Hommes
END:VEVENT
BEGIN:VEVENT
DTSTART;TZID=Europe/Paris:20240417T000000
DTEND;TZID=Europe/Paris:20240417T235959
DTSTAMP:20260421T092749
CREATED:20231130T142315Z
LAST-MODIFIED:20240420T153212Z
UID:4903-1713312000-1713398399@tennis-fontenilles.fr
SUMMARY:Challenge Edouard Touquet Garçons 13/14 ans
DESCRIPTION:TCF 1 vs Roques Olympic TC 1  \n\n\n\nRésultat de la rencontre : 0/4 \n\n\n\nSimple 1 : Valentin Cavailles (40) vs Alistair Martin (30/5) : 0/6 2/6 \n\n\n\nSimple 2 : Guilhem Cavailles (40) vs Maxime Rumeau (40) : 1/6 0/6 \n\n\n\nDouble : Anton Adam-Marivin (40) & Ethan Peron (40) vs Jasper Negre (30/5) & Alistair Martin (30/5) 2/6 0/6 \n\n\n\nGras = Fontenillois
URL:https://tennis-fontenilles.fr/event/challenge-edouard-touquet-garcons-13-14-ans-3/
CATEGORIES:Match par équipe Garçons
END:VEVENT
BEGIN:VEVENT
DTSTART;TZID=Europe/Paris:20240417T000000
DTEND;TZID=Europe/Paris:20240417T235959
DTSTAMP:20260421T092749
CREATED:20231130T142446Z
LAST-MODIFIED:20231206T141248Z
UID:4905-1713312000-1713398399@tennis-fontenilles.fr
SUMMARY:Challenge Edouard Touquet 8-9-10 ans Mixte Orange
DESCRIPTION:Fonsorbes TC 1 vs TCF 1 \n\n\n\nRésultat de la rencontre :  \n\n\n\n*Les rencontres du Touquet peuvent se jouer durant n’importe quel jour de la semaine.
URL:https://tennis-fontenilles.fr/event/challenge-edouard-touquet-8-9-10-ans-mixte-orange-6/
CATEGORIES:Match par équipe Mixte
END:VEVENT
BEGIN:VEVENT
DTSTART;TZID=Europe/Paris:20240417T000000
DTEND;TZID=Europe/Paris:20240417T235959
DTSTAMP:20260421T092749
CREATED:20231130T142538Z
LAST-MODIFIED:20231206T141255Z
UID:4907-1713312000-1713398399@tennis-fontenilles.fr
SUMMARY:Challenge Edouard Touquet 8-9-10 ans Mixte Orange
DESCRIPTION:Fonsorbes TC 2 vs TCF 2 \n\n\n\nRésultat de la rencontre :  \n\n\n\n*Les rencontres du Touquet peuvent se jouer durant n’importe quel jour de la semaine.
URL:https://tennis-fontenilles.fr/event/challenge-edouard-touquet-8-9-10-ans-mixte-orange-7/
CATEGORIES:Match par équipe Mixte
END:VEVENT
BEGIN:VEVENT
DTSTART;TZID=Europe/Paris:20240417T000000
DTEND;TZID=Europe/Paris:20240417T235959
DTSTAMP:20260421T092749
CREATED:20231130T142730Z
LAST-MODIFIED:20231206T141300Z
UID:4909-1713312000-1713398399@tennis-fontenilles.fr
SUMMARY:Challenge Edouard Touquet 8-9-10 ans Mixte Orange
DESCRIPTION:Mauzac TC 1 vs TCF 3 \n\n\n\nRésultat de la rencontre :  \n\n\n\n*Les rencontres du Touquet peuvent se jouer durant n’importe quel jour de la semaine.
URL:https://tennis-fontenilles.fr/event/challenge-edouard-touquet-8-9-10-ans-mixte-orange-8/
CATEGORIES:Match par équipe Mixte
END:VEVENT
BEGIN:VEVENT
DTSTART;TZID=Europe/Paris:20240423T000000
DTEND;TZID=Europe/Paris:20240423T235959
DTSTAMP:20260421T092749
CREATED:20231130T142827Z
LAST-MODIFIED:20231206T141308Z
UID:4911-1713830400-1713916799@tennis-fontenilles.fr
SUMMARY:Challenge Edouard Touquet Dames
DESCRIPTION:TCF 4 vs Lagardelle TC 1 \n\n\n\nRésultat de la rencontre :  \n\n\n\n*Les rencontres du Touquet peuvent se jouer durant n’importe quel jour de la semaine.
URL:https://tennis-fontenilles.fr/event/challenge-edouard-touquet-dames-11/
CATEGORIES:Match par équipe Femmes
END:VEVENT
BEGIN:VEVENT
DTSTART;TZID=Europe/Paris:20240423T000000
DTEND;TZID=Europe/Paris:20240423T235959
DTSTAMP:20260421T092749
CREATED:20231130T142931Z
LAST-MODIFIED:20231206T141316Z
UID:4913-1713830400-1713916799@tennis-fontenilles.fr
SUMMARY:Challenge Edouard Touquet Dames
DESCRIPTION:Lavernose Lacasse TC 1 vs TCF 1 \n\n\n\nRésultat de la rencontre :  \n\n\n\n*Les rencontres du Touquet peuvent se jouer durant n’importe quel jour de la semaine.
URL:https://tennis-fontenilles.fr/event/challenge-edouard-touquet-dames-12/
CATEGORIES:Match par équipe Femmes
END:VEVENT
BEGIN:VEVENT
DTSTART;TZID=Europe/Paris:20240423T000000
DTEND;TZID=Europe/Paris:20240423T235959
DTSTAMP:20260421T092749
CREATED:20231130T143029Z
LAST-MODIFIED:20231206T141322Z
UID:4915-1713830400-1713916799@tennis-fontenilles.fr
SUMMARY:Challenge Edouard Touquet Dames
DESCRIPTION:Pins-Justaret TC 3 vs TCF 5 \n\n\n\nRésultat de la rencontre :  \n\n\n\n*Les rencontres du Touquet peuvent se jouer durant n’importe quel jour de la semaine.
URL:https://tennis-fontenilles.fr/event/challenge-edouard-touquet-dames-13/
CATEGORIES:Match par équipe Femmes
END:VEVENT
BEGIN:VEVENT
DTSTART;TZID=Europe/Paris:20240424T000000
DTEND;TZID=Europe/Paris:20240424T235959
DTSTAMP:20260421T092749
CREATED:20231130T143125Z
LAST-MODIFIED:20231206T141327Z
UID:4917-1713916800-1714003199@tennis-fontenilles.fr
SUMMARY:Challenge Edouard Touquet Garçons 12 ans
DESCRIPTION:TCF 1 vs Goyrans TV 1 \n\n\n\nRésultat de la rencontre :  \n\n\n\n*Les rencontres du Touquet peuvent se jouer durant n’importe quel jour de la semaine.
URL:https://tennis-fontenilles.fr/event/challenge-edouard-touquet-garcons-12-ans-2/
CATEGORIES:Match par équipe Garçons
END:VEVENT
BEGIN:VEVENT
DTSTART;TZID=Europe/Paris:20240424T000000
DTEND;TZID=Europe/Paris:20240424T235959
DTSTAMP:20260421T092749
CREATED:20231130T143245Z
LAST-MODIFIED:20231206T141333Z
UID:4919-1713916800-1714003199@tennis-fontenilles.fr
SUMMARY:Challenge Edouard Touquet Filles 15/16 ans
DESCRIPTION:Noé TC 1 vs TCF 1  \n\n\n\nRésultat de la rencontre :  \n\n\n\n*Les rencontres du Touquet peuvent se jouer durant n’importe quel jour de la semaine.
URL:https://tennis-fontenilles.fr/event/challenge-edouard-touquet-filles-15-16-ans/
CATEGORIES:Match par équipe Filles
END:VEVENT
BEGIN:VEVENT
DTSTART;TZID=Europe/Paris:20240429T000000
DTEND;TZID=Europe/Paris:20240429T235959
DTSTAMP:20260421T092749
CREATED:20240120T164021Z
LAST-MODIFIED:20240120T164023Z
UID:5280-1714348800-1714435199@tennis-fontenilles.fr
SUMMARY:Beaumont sur Lèze Messieurs 35+
DESCRIPTION:Arize sur Lèze TC 1 vs TCF 1  \n\n\n\nRésultat de la rencontre :
URL:https://tennis-fontenilles.fr/event/beaumont-sur-leze-messieurs-35-3/
CATEGORIES:Match par équipe Hommes
END:VEVENT
BEGIN:VEVENT
DTSTART;TZID=Europe/Paris:20240430T000000
DTEND;TZID=Europe/Paris:20240430T235959
DTSTAMP:20260421T092749
CREATED:20231130T143347Z
LAST-MODIFIED:20231206T141339Z
UID:4921-1714435200-1714521599@tennis-fontenilles.fr
SUMMARY:Challenge Edouard Touquet Messieurs
DESCRIPTION:Pins-Justaret TC 3 vs TCF 3 \n\n\n\nRésultat de la rencontre :  \n\n\n\n*Les rencontres du Touquet peuvent se jouer durant n’importe quel jour de la semaine.
URL:https://tennis-fontenilles.fr/event/challenge-edouard-touquet-messieurs-12/
CATEGORIES:Match par équipe Hommes
END:VEVENT
END:VCALENDAR