BEGIN:VCALENDAR
VERSION:2.0
PRODID:-//Tennis Club Fontenilles - ECPv6.15.16//NONSGML v1.0//EN
CALSCALE:GREGORIAN
METHOD:PUBLISH
X-ORIGINAL-URL:https://tennis-fontenilles.fr
X-WR-CALDESC:Évènements pour Tennis Club Fontenilles
REFRESH-INTERVAL;VALUE=DURATION:PT1H
X-Robots-Tag:noindex
X-PUBLISHED-TTL:PT1H
BEGIN:VTIMEZONE
TZID:Europe/Paris
BEGIN:DAYLIGHT
TZOFFSETFROM:+0100
TZOFFSETTO:+0200
TZNAME:CEST
DTSTART:20230326T010000
END:DAYLIGHT
BEGIN:STANDARD
TZOFFSETFROM:+0200
TZOFFSETTO:+0100
TZNAME:CET
DTSTART:20231029T010000
END:STANDARD
BEGIN:DAYLIGHT
TZOFFSETFROM:+0100
TZOFFSETTO:+0200
TZNAME:CEST
DTSTART:20240331T010000
END:DAYLIGHT
BEGIN:STANDARD
TZOFFSETFROM:+0200
TZOFFSETTO:+0100
TZNAME:CET
DTSTART:20241027T010000
END:STANDARD
BEGIN:DAYLIGHT
TZOFFSETFROM:+0100
TZOFFSETTO:+0200
TZNAME:CEST
DTSTART:20250330T010000
END:DAYLIGHT
BEGIN:STANDARD
TZOFFSETFROM:+0200
TZOFFSETTO:+0100
TZNAME:CET
DTSTART:20251026T010000
END:STANDARD
END:VTIMEZONE
BEGIN:VEVENT
DTSTART;TZID=Europe/Paris:20240201T000000
DTEND;TZID=Europe/Paris:20240201T235959
DTSTAMP:20260421T120410
CREATED:20240120T160543Z
LAST-MODIFIED:20240124T135024Z
UID:5252-1706745600-1706831999@tennis-fontenilles.fr
SUMMARY:Beaumont sur Lèze 35+ Femmes
DESCRIPTION:TC La Cocagne vs TCF  \n\n\n\nRésultat de la rencontre : 0/4 \n\n\n\nSimple 1 : Léticia Sebastian (30/1) vs Valérie Berthonnier (30/1) : 4/6 6/3 4/10* \n\n\n\nSimple 2 : Carole Raballand (30/2) vs Sandy Dailly (30/1) : 0/6 3/6 \n\n\n\nDouble : Lucie Cantin (30/3 – 15) & Léticia Sebastian (30/1 – 13) vs Valérie Berthonnier (30/1 – 13) & Sandy Dailly (30/1 – 13) : 6/4 2/6 10/12* \n\n\n\nGras = Fontenilloises /*Super tie-break
URL:https://tennis-fontenilles.fr/event/beaumont-sur-leze-35-femmes/
CATEGORIES:Match par équipe Femmes
END:VEVENT
BEGIN:VEVENT
DTSTART;TZID=Europe/Paris:20240203T000000
DTEND;TZID=Europe/Paris:20240203T235959
DTSTAMP:20260421T120410
CREATED:20240120T160643Z
LAST-MODIFIED:20240207T131601Z
UID:5254-1706918400-1707004799@tennis-fontenilles.fr
SUMMARY:Trophée Jeunes CE 15/16 G
DESCRIPTION:TCF 1 vs Villeneuve Tolosane TC 1 \n\n\n\nRésultat de la rencontre : 3/0 \n\n\n\nSimple 1 : Yann Bholah (30/1) vs Léo Segur (30/2) : 6/3 6/4 \n\n\n\nSimple 2 : Mathis Cassiot (30/4) vs Alexis Royer (30/4) : 6/1 6/1 \n\n\n\nDouble : Yann Bholah (30/1) & Mathis Cassiot (30/4) vs Enzo Malet (40) & Clément Vannier (30/3) : 6/1 6/3 \n\n\n\nGras = Fontenillois
URL:https://tennis-fontenilles.fr/event/trophee-jeunes-ce-15-16-g-3/
CATEGORIES:Match par équipe Garçons
END:VEVENT
BEGIN:VEVENT
DTSTART;TZID=Europe/Paris:20240203T000000
DTEND;TZID=Europe/Paris:20240203T235959
DTSTAMP:20260421T120410
CREATED:20240120T160801Z
LAST-MODIFIED:20240207T131328Z
UID:5256-1706918400-1707004799@tennis-fontenilles.fr
SUMMARY:Trophée Jeunes CE 13/14 G
DESCRIPTION:TCF 1 vs Grenade TC 5 \n\n\n\nRésultat de la rencontre : 2/1 \n\n\n\nSimple 1 : Thimothée Declerck (30/4) vs Adam Tayakout (30/5) : 6/3 7/5 \n\n\n\nSimple 2 : Anton Adam-Marivin (NC) vs Mathis Caillibotte (30/5) : 1/6 0/6 \n\n\n\nDouble : Thimothée Declerck (30/4) & Anton Adam-Marivin (NC) vs Pablo Castellano (40) & Yoan Mothes (40) : 6/1 6/2 \n\n\n\nGras = Fontenillois
URL:https://tennis-fontenilles.fr/event/trophee-jeunes-ce-13-14-g-2/
CATEGORIES:Match par équipe Garçons
END:VEVENT
BEGIN:VEVENT
DTSTART;TZID=Europe/Paris:20240203T000000
DTEND;TZID=Europe/Paris:20240203T235959
DTSTAMP:20260421T120410
CREATED:20240120T160902Z
LAST-MODIFIED:20240207T131824Z
UID:5258-1706918400-1707004799@tennis-fontenilles.fr
SUMMARY:Trophée Jeunes CE 15/16/17/18 F
DESCRIPTION:Launaguet TC 1 vs TCF 1 \n\n\n\nRésultat de la rencontre : 2/1 \n\n\n\nSimple 1 : Anaïs Bertrand (30/1) vs Léna Baillus (30) : 6/1 6/0 \n\n\n\nSimple 2 : Chloé Lourenco (30/1) vs Noellie Couvin (30/1) : 7/6 2/6 11/9* \n\n\n\nDouble : Anaïs Bertrand (30/1) & Chloé Lourenco (30/1) vs Léna Baillus (30) & Noellie Couvin (30/1) : 4/6 4/6 \n\n\n\nGras = Fontenilloises /*Super tie-break
URL:https://tennis-fontenilles.fr/event/trophee-jeunes-ce-15-16-17-18-f-3/
CATEGORIES:Match par équipe Filles
END:VEVENT
BEGIN:VEVENT
DTSTART;TZID=Europe/Paris:20240203T000000
DTEND;TZID=Europe/Paris:20240203T235959
DTSTAMP:20260421T120410
CREATED:20240120T162215Z
LAST-MODIFIED:20240207T132446Z
UID:5260-1706918400-1707004799@tennis-fontenilles.fr
SUMMARY:Trophée Jeunes CE 11/12 G
DESCRIPTION:Emulation Nautique TC 2 vs TCF 1 \n\n\n\nRésultat de la rencontre : 2/1 \n\n\n\nSimple 1 : Gaspard Estrade (30/4) vs Mathis Bholah (30/4) : 6/1 6/1 \n\n\n\nSimple 2 : Gaspard Courtel (30/5) vs Edouard Fessageut (40) : 6/1 6/1 \n\n\n\nDouble : Gaspard Estrade (30/4) & Maxence Rivet (40) vs Julien Galline Tost (30/3) & Mathis Bholah (30/4) : 6/3 4/6 7/10* \n\n\n\nGras = Fontenillois /*Super tie-break
URL:https://tennis-fontenilles.fr/event/trophee-jeunes-ce-11-12-g-2/
END:VEVENT
BEGIN:VEVENT
DTSTART;TZID=Europe/Paris:20240207T000000
DTEND;TZID=Europe/Paris:20240207T235959
DTSTAMP:20260421T120410
CREATED:20231129T162436Z
LAST-MODIFIED:20240225T184631Z
UID:4841-1707264000-1707350399@tennis-fontenilles.fr
SUMMARY:Challenge Edouard Touquet Filles 15/16
DESCRIPTION:TCF vs Cintegabelle TC  \n\n\n\nRésultat de la rencontre : 0/4 \n\n\n\nSimple 1 : Anaé Aguilera-Moreno (40) vs Ana Canos (30/) : 3/6 1/6 \n\n\n\nSimple 2 : Tessa Reato (40) vs Lana Martin Jourda (30/5) : 1/6 0/6 \n\n\n\nDouble : Anaé Aguilera Moreno (40) & Tessa Reato (40) vs Emmy Droulin Delhomme (30/5) & Lana Martin Jourda (30/5) : 0/6 1/6 \n\n\n\nGras = Fontenilloises
URL:https://tennis-fontenilles.fr/event/challenge-edouard-touquet-filles-15-16/
CATEGORIES:Match par équipe Filles
END:VEVENT
BEGIN:VEVENT
DTSTART;TZID=Europe/Paris:20240211T000000
DTEND;TZID=Europe/Paris:20240211T235959
DTSTAMP:20260421T120410
CREATED:20240210T155248Z
LAST-MODIFIED:20240214T142100Z
UID:5353-1707609600-1707695999@tennis-fontenilles.fr
SUMMARY:Challenge André Laffont Messieurs
DESCRIPTION:TCF 1 vs AS E.A.T TC 1 \n\n\n\nRésultat de la rencontre : 3/2 \n\n\n\nSimple 1 : Patrice Cossard (15/2) vs Alain Escarguel (15/3) : 6/3 6/2 \n\n\n\nSimple 2 : Théo Maylin (15/3) vs Florian Lefebvre (15/3) : 1/6 3/6 \n\n\n\nSimple 3 : Laurent Dillard (15/3) vs Vincent Blaire (15/4) : 6/2 6/2 \n\n\n\nSimple 4 : Clément Marco (30) vs Thomas Rousselin (15/5) : 6/3 3/6 6/7 \n\n\n\nDouble : Patrice Cossard (15/2 – 8) & Théo Maylin (15/3 – 9) vs Florian Lefebvre (15/3 – 9) & Vincent Blaire (15/4 – 10) \n\n\n\nGras = Fontenillois
URL:https://tennis-fontenilles.fr/event/challenge-andre-laffont-messieurs-4/
CATEGORIES:Match par équipe Hommes
END:VEVENT
BEGIN:VEVENT
DTSTART;TZID=Europe/Paris:20240211T000000
DTEND;TZID=Europe/Paris:20240211T235959
DTSTAMP:20260421T120410
CREATED:20240210T155342Z
LAST-MODIFIED:20240214T142514Z
UID:5355-1707609600-1707695999@tennis-fontenilles.fr
SUMMARY:Challenge André Laffont Dames
DESCRIPTION:Launaguet Racing TC 1 vs TCF 1 \n\n\n\nRésultat de la rencontre : 2/3 \n\n\n\nSimple 1 : Julie Lafon Larguet (15/3) vs Mélina Berthonnier (15/1) : 6/2 6/0 \n\n\n\nSimple 2 : Léa Delayen (15/2) vs Florence Kuijpers (15/5) : 3/6 4/6 \n\n\n\nSimple 3 : Johanne Pereau (30/1) vs Laetitia Carmouze (15/5) : 1/6 3/6 \n\n\n\nSimple 4 : Anaïs Bertrand (30/1) vs Noellie Couvin (30/1) : 3/6 3/6 \n\n\n\nDouble : Julie Lafon Larguet (15/3 – 9) & Christelle Gasc (30 – 12) vs Laetitia Carmouze (15/5 – 11) & Noellie Couvin (30/1 – 13) : 6/1 6/1 \n\n\n\nGras = Fontenilloises
URL:https://tennis-fontenilles.fr/event/challenge-andre-laffont-dames-4/
CATEGORIES:Match par équipe Femmes
END:VEVENT
BEGIN:VEVENT
DTSTART;TZID=Europe/Paris:20240215T000000
DTEND;TZID=Europe/Paris:20240215T235959
DTSTAMP:20260421T120410
CREATED:20231129T162535Z
LAST-MODIFIED:20240225T183500Z
UID:4843-1707955200-1708041599@tennis-fontenilles.fr
SUMMARY:Challenge Edouard Touquet Messieurs
DESCRIPTION:TCF 1 vs Muret TC 2  \n\n\n\nRésultat de la rencontre : 1/3 \n\n\n\nSimple 1 : Romain Cappellaro (30) vs Mustapha Otmane Cherif (30) : 3/6 2/6 \n\n\n\nSimple 2 : Frédéric Ruiz (30) vs Jimmy Rolland (30/1) : 7/5 6/4 \n\n\n\nDouble : Frédéric Ruiz (30) & Stéphane Van Baeveghem (30/1) vs Nicolas Tomasina (15/5) & Mustapha Otmane Cherif (30) : 6/3 3/6 7/10* \n\n\n\nGras = Fontenillois / *Super tie-break
URL:https://tennis-fontenilles.fr/event/challenge-edouard-touquet-messieurs-2/
CATEGORIES:Match par équipe Hommes
END:VEVENT
BEGIN:VEVENT
DTSTART;TZID=Europe/Paris:20240215T000000
DTEND;TZID=Europe/Paris:20240215T235959
DTSTAMP:20260421T120410
CREATED:20231129T162622Z
LAST-MODIFIED:20240225T183156Z
UID:4845-1707955200-1708041599@tennis-fontenilles.fr
SUMMARY:Challenge Edouard Touquet Messieurs
DESCRIPTION:TCF 2 vs Lacroix Falgarde TC 1 \n\n\n\nRésultat de la rencontre : 4/0 \n\n\n\nSimple 1 : Nicolas Jolivet (30/1) vs Julien Lloubes (30) : 6/4 0/6 10/8* \n\n\n\nSimple 2 : Denis Favre-Félix (30/2) vs Pierre Seguin (30/3) : 6/4 7/6 \n\n\n\nDouble : Eric Phegnon (30/2) & Cyril Couvin (30/2) vs Théo Unal (30/5) & Lionel Gaillard (30/3) : 6/4 3/6 10/8* \n\n\n\nGras = Fontenillois / *Super tie-break
URL:https://tennis-fontenilles.fr/event/4845/
CATEGORIES:Match par équipe Hommes
END:VEVENT
BEGIN:VEVENT
DTSTART;TZID=Europe/Paris:20240215T000000
DTEND;TZID=Europe/Paris:20240215T235959
DTSTAMP:20260421T120410
CREATED:20240120T162639Z
LAST-MODIFIED:20240225T185017Z
UID:5264-1707955200-1708041599@tennis-fontenilles.fr
SUMMARY:Challenge Edouard Touquet Messieurs 55+
DESCRIPTION:Fonsorbes TC 1 vs TCF 1  \n\n\n\nRésultat de la rencontre : 2/2 \n\n\n\nSimple 1 : Frédéric Laurent (30/3) vs Dominique Semmartin (30/4) : 6/1 6/4 \n\n\n\nSimple 2 : Philippe Cassagne (30/4) vs Didier Berthonnier (40) : 6/2 6/0 \n\n\n\nDouble : Frédéric Laurent (30/3) & Philippe Cassagne (30/4) vs Philippe Rousset (30/5) & Gérard Gorse (30/4) : 5/7 3/6 \n\n\n\nGras = Fontenillois
URL:https://tennis-fontenilles.fr/event/challenge-edouard-touquet-messieurs-55/
CATEGORIES:Match par équipe Hommes
END:VEVENT
BEGIN:VEVENT
DTSTART;TZID=Europe/Paris:20240216T000000
DTEND;TZID=Europe/Paris:20240216T235959
DTSTAMP:20260421T120410
CREATED:20231129T162756Z
LAST-MODIFIED:20240225T185750Z
UID:4848-1708041600-1708127999@tennis-fontenilles.fr
SUMMARY:Challenge Edouard Touquet Messieurs
DESCRIPTION:TCF 7 vs Pinsaguel 2 \n\n\n\nRésultat de la rencontre : 2/2 \n\n\n\nSimple 1 : Eric Danizan (40) vs Florian Prieu (40) : 0/6 6/2 3/10* \n\n\n\nSimple 2 : Benoit Cestac (NC) vs Gregory Deide (40) ! 1/6 5/7 \n\n\n\nDouble : Thierry Gonfier (NC) & Sébastien Maïnella (40) vs Wilfried Taugourdeau (30/4) & Mathieu Taupiac (40) : 4/6 6/4 10/7* \n\n\n\nGras = Fontenillois
URL:https://tennis-fontenilles.fr/event/challenge-edouard-touquet-messieurs-3/
CATEGORIES:Match par équipe Hommes
END:VEVENT
BEGIN:VEVENT
DTSTART;TZID=Europe/Paris:20240216T000000
DTEND;TZID=Europe/Paris:20240216T235959
DTSTAMP:20260421T120410
CREATED:20240207T143104Z
LAST-MODIFIED:20240207T143249Z
UID:5330-1708041600-1708127999@tennis-fontenilles.fr
SUMMARY:Challenge Edouard Touquet Messieurs
DESCRIPTION:Seysses TC 2 vs TCF 3 \n\n\n\nRésultat de la rencontre : 2/2 \n\n\n\nSimple 1 : Jacques Lescot (30/4) vs Guillaume Denis-Vitrice (30/4) : 7/5 6/7 6/10 \n\n\n\nSimple 2 : Loic Cwiek (40) vs Julien Delgado (40) : 0/6 1/6 \n\n\n\nDouble : Jacques Lescot (30/4) & Cédric Fournier (30/3) vs Nicolas Wiel (30/4) & Jean-Christohe Ricard (NC) : 6/2 6/4 \n\n\n\nGras = Fontenillois
URL:https://tennis-fontenilles.fr/event/challenge-edouard-touquet-messieurs-13/
CATEGORIES:Match par équipe Hommes
END:VEVENT
BEGIN:VEVENT
DTSTART;TZID=Europe/Paris:20240220T000000
DTEND;TZID=Europe/Paris:20240220T235959
DTSTAMP:20260421T120410
CREATED:20231129T162852Z
LAST-MODIFIED:20240225T190751Z
UID:4850-1708387200-1708473599@tennis-fontenilles.fr
SUMMARY:Challenge Edouard Touquet Dames
DESCRIPTION:TCF 2 vs Cugnaux J.S TC 1 \n\n\n\nRésultat de la rencontre : 3/1 \n\n\n\nSimple 1 : Sandy Dailly (30/1) vs Sylvia Fouetillou (30/1) : 6/2 6/2 \n\n\n\nSimple 2 : Alexia Dray (30/2) vs Laure Pigeon (30/1) : 0/5 5/7 \n\n\n\nDouble : Valérie Berthonnier (30/1) & Sandy Dailly (30/1) vs Laure Pigeon (30/1) & Antoinette Labeyrie (30/2) : 7/6 6/2 \n\n\n\nGras = Fontenilloises
URL:https://tennis-fontenilles.fr/event/challenge-edouard-touquet-dames-5/
CATEGORIES:Match par équipe Femmes
END:VEVENT
BEGIN:VEVENT
DTSTART;TZID=Europe/Paris:20240220T000000
DTEND;TZID=Europe/Paris:20240220T235959
DTSTAMP:20260421T120410
CREATED:20231129T162955Z
LAST-MODIFIED:20240225T191021Z
UID:4852-1708387200-1708473599@tennis-fontenilles.fr
SUMMARY:Challenge Edouard Touquet Dames
DESCRIPTION:TCF 5 vs Goyrans TV 2 \n\n\n\nRésultat de la rencontre : 0/4 \n\n\n\nSimple 1 : Géraldine Sheehan (40) vs Carole Schiettecatte (30/4) : 0/6 0/6 \n\n\n\nSimple 2 : Isabelle Juan (NC) vs Céline Capuron (40) : 0/6 0/6 \n\n\n\nDouble : Coralie Bitène (40) & Géraldine Sheehan (40) vs Frédérique Dolbeau (40) & Céline Capuron (40) : 4/6 1/6 \n\n\n\nGras = Fontenilloises
URL:https://tennis-fontenilles.fr/event/challenge-edouard-touquet-dames-6/
CATEGORIES:Match par équipe Femmes
END:VEVENT
BEGIN:VEVENT
DTSTART;TZID=Europe/Paris:20240221T000000
DTEND;TZID=Europe/Paris:20240221T235959
DTSTAMP:20260421T120410
CREATED:20231129T163209Z
LAST-MODIFIED:20231129T163743Z
UID:4856-1708473600-1708559999@tennis-fontenilles.fr
SUMMARY:Challenge Edouard Touquet 8-9-10 ans Mixte Orange
DESCRIPTION:TCF 2 vs Beaumont sur Lèze TC 1 \n\n\n\nRésultat de la rencontre :  \n\n\n\n*Les rencontres du Touquet peuvent se jouer durant n’importe quel jour de la semaine.
URL:https://tennis-fontenilles.fr/event/challenge-edouard-touquet-8-9-10-ans-mixte-orange/
CATEGORIES:Match par équipe Mixte
END:VEVENT
BEGIN:VEVENT
DTSTART;TZID=Europe/Paris:20240221T000000
DTEND;TZID=Europe/Paris:20240221T235959
DTSTAMP:20260421T120410
CREATED:20231129T163311Z
LAST-MODIFIED:20231129T163737Z
UID:4858-1708473600-1708559999@tennis-fontenilles.fr
SUMMARY:Challenge Edouard Touquet 8-9-10 ans Mixte Orange
DESCRIPTION:TCF 3 vs Cugnaux J.S TC 1 \n\n\n\nRésultat de la rencontre :  \n\n\n\n*Les rencontres du Touquet peuvent se jouer durant n’importe quel jour de la semaine.
URL:https://tennis-fontenilles.fr/event/challenge-edouard-touquet-8-9-10-ans-mixte-orange-2/
CATEGORIES:Match par équipe Mixte
END:VEVENT
BEGIN:VEVENT
DTSTART;TZID=Europe/Paris:20240221T000000
DTEND;TZID=Europe/Paris:20240221T235959
DTSTAMP:20260421T120410
CREATED:20231129T163442Z
LAST-MODIFIED:20231129T163725Z
UID:4860-1708473600-1708559999@tennis-fontenilles.fr
SUMMARY:Challenge Edouard Touquet 8-9-10 ans Mixte Orange
DESCRIPTION:Noé TC 1 vs TCF 1 \n\n\n\nRésultat de la rencontre :  \n\n\n\n*Les rencontres du Touquet peuvent se jouer durant n’importe quel jour de la semaine.
URL:https://tennis-fontenilles.fr/event/challenge-edouard-touquet-8-9-10-ans-mixte-orange-3/
CATEGORIES:Match par équipe Mixte
END:VEVENT
BEGIN:VEVENT
DTSTART;TZID=Europe/Paris:20240221T000000
DTEND;TZID=Europe/Paris:20240221T235959
DTSTAMP:20260421T120410
CREATED:20231129T163551Z
LAST-MODIFIED:20240406T160947Z
UID:4862-1708473600-1708559999@tennis-fontenilles.fr
SUMMARY:Challenge Edouard Touquet Garçons 13/14 ans
DESCRIPTION:Longages TC 1 vs TCF 1  \n\n\n\nRésultat de la rencontre : 4/0 \n\n\n\nSimple 1 : Artur Bachmann (40) vs Ethan Peron (40) : 6/0 6/0 \n\n\n\nSimple 2 : Kerrian Chabanis (40) vs Anton Adam-Marivin (40) : 7/6 7/5 \n\n\n\nDouble : Artur Bachmann (40) & Kerrian Chabanis (40) vs Anton Adam-Marivin (40) & Ethan Peron (40) : 6/1 6/0
URL:https://tennis-fontenilles.fr/event/challenge-edouard-touquet-garcons-13-14-ans-2/
CATEGORIES:Match par équipe Garçons
END:VEVENT
BEGIN:VEVENT
DTSTART;TZID=Europe/Paris:20240221T000000
DTEND;TZID=Europe/Paris:20240221T235959
DTSTAMP:20260421T120410
CREATED:20240120T162344Z
LAST-MODIFIED:20240225T184557Z
UID:5262-1708473600-1708559999@tennis-fontenilles.fr
SUMMARY:Trophée Jeune CE 15/16 G
DESCRIPTION:Lévignac TC 1 vs TCF 1  \n\n\n\nRésultat de la rencontre : 1/2 \n\n\n\nSimple 1 : Abel Dufau (30/5) vs Yann Bholah (30/1) : 0/6 0/6 \n\n\n\nSimple 2 : Noé Clot (30/5) vs Kévin Duprat Moretto (30/2) : 0/6 1/6 \n\n\n\nDouble : Kentin El Mannai (30) & Eliott Bussy (30/2) vs Yann Bholah (30/1) & Kévin Duprat Moretto (30/2) : 6/3 6/7 10/6* \n\n\n\nGras = Fontenillois /*Super tie-break
URL:https://tennis-fontenilles.fr/event/trophee-jeune-ce-15-16-g/
CATEGORIES:Match par équipe Garçons
END:VEVENT
END:VCALENDAR