BEGIN:VCALENDAR
VERSION:2.0
PRODID:-//Tennis Club Fontenilles - ECPv6.15.16//NONSGML v1.0//EN
CALSCALE:GREGORIAN
METHOD:PUBLISH
X-ORIGINAL-URL:https://tennis-fontenilles.fr
X-WR-CALDESC:Évènements pour Tennis Club Fontenilles
REFRESH-INTERVAL;VALUE=DURATION:PT1H
X-Robots-Tag:noindex
X-PUBLISHED-TTL:PT1H
BEGIN:VTIMEZONE
TZID:Europe/Paris
BEGIN:DAYLIGHT
TZOFFSETFROM:+0100
TZOFFSETTO:+0200
TZNAME:CEST
DTSTART:20230326T010000
END:DAYLIGHT
BEGIN:STANDARD
TZOFFSETFROM:+0200
TZOFFSETTO:+0100
TZNAME:CET
DTSTART:20231029T010000
END:STANDARD
BEGIN:DAYLIGHT
TZOFFSETFROM:+0100
TZOFFSETTO:+0200
TZNAME:CEST
DTSTART:20240331T010000
END:DAYLIGHT
BEGIN:STANDARD
TZOFFSETFROM:+0200
TZOFFSETTO:+0100
TZNAME:CET
DTSTART:20241027T010000
END:STANDARD
BEGIN:DAYLIGHT
TZOFFSETFROM:+0100
TZOFFSETTO:+0200
TZNAME:CEST
DTSTART:20250330T010000
END:DAYLIGHT
BEGIN:STANDARD
TZOFFSETFROM:+0200
TZOFFSETTO:+0100
TZNAME:CET
DTSTART:20251026T010000
END:STANDARD
END:VTIMEZONE
BEGIN:VEVENT
DTSTART;TZID=Europe/Paris:20240522T000000
DTEND;TZID=Europe/Paris:20240522T235959
DTSTAMP:20260421T103926
CREATED:20240207T150704Z
LAST-MODIFIED:20240207T150706Z
UID:5348-1716336000-1716422399@tennis-fontenilles.fr
SUMMARY:Challenge Edouard Touquet 12 ans G
DESCRIPTION:Portet TC 1 vs TCF 1  \n\n\n\nRésultat de la rencontre :
URL:https://tennis-fontenilles.fr/event/challenge-edouard-touquet-12-ans-g/
CATEGORIES:Match par équipe Garçons
END:VEVENT
END:VCALENDAR