BEGIN:VCALENDAR
VERSION:2.0
PRODID:-//Tennis Club Fontenilles - ECPv6.15.16//NONSGML v1.0//EN
CALSCALE:GREGORIAN
METHOD:PUBLISH
X-WR-CALNAME:Tennis Club Fontenilles
X-ORIGINAL-URL:https://tennis-fontenilles.fr
X-WR-CALDESC:Évènements pour Tennis Club Fontenilles
REFRESH-INTERVAL;VALUE=DURATION:PT1H
X-Robots-Tag:noindex
X-PUBLISHED-TTL:PT1H
BEGIN:VTIMEZONE
TZID:Europe/Paris
BEGIN:DAYLIGHT
TZOFFSETFROM:+0100
TZOFFSETTO:+0200
TZNAME:CEST
DTSTART:20230326T010000
END:DAYLIGHT
BEGIN:STANDARD
TZOFFSETFROM:+0200
TZOFFSETTO:+0100
TZNAME:CET
DTSTART:20231029T010000
END:STANDARD
BEGIN:DAYLIGHT
TZOFFSETFROM:+0100
TZOFFSETTO:+0200
TZNAME:CEST
DTSTART:20240331T010000
END:DAYLIGHT
BEGIN:STANDARD
TZOFFSETFROM:+0200
TZOFFSETTO:+0100
TZNAME:CET
DTSTART:20241027T010000
END:STANDARD
BEGIN:DAYLIGHT
TZOFFSETFROM:+0100
TZOFFSETTO:+0200
TZNAME:CEST
DTSTART:20250330T010000
END:DAYLIGHT
BEGIN:STANDARD
TZOFFSETFROM:+0200
TZOFFSETTO:+0100
TZNAME:CET
DTSTART:20251026T010000
END:STANDARD
END:VTIMEZONE
BEGIN:VEVENT
DTSTART;TZID=Europe/Paris:20240409T000000
DTEND;TZID=Europe/Paris:20240409T235959
DTSTAMP:20260421T105022
CREATED:20240120T163803Z
LAST-MODIFIED:20240420T145756Z
UID:5276-1712620800-1712707199@tennis-fontenilles.fr
SUMMARY:Beaumont sur Lèze Messieurs 35+
DESCRIPTION:Colomiers US 2 vs TCF 1 \n\n\n\nRésultat de la rencontre : 0/4 \n\n\n\nSimple 1 : Frédéric Ruiz (30) vs Thibaut Contamin (30) : 7/5 6/1 \n\n\n\nSimple 2 : Rémi Dailly (30/1) vs Sébastien Cattelain (30/1) : 6/4 6/4 \n\n\n\nDouble : Eric Phegnon (30/2 – 14) & Nicolas Jolivet (30/1 – 13) vs Francisco Gutierrez (30/3 – 15) & Arnaud Carra (30/2 – 14) : 5/7 6/2 10/2* \n\n\n\nGras = Fontenillois
URL:https://tennis-fontenilles.fr/event/beaumont-sur-leze-messieurs-35-2/
CATEGORIES:Match par équipe Hommes
END:VEVENT
BEGIN:VEVENT
DTSTART;TZID=Europe/Paris:20240409T000000
DTEND;TZID=Europe/Paris:20240409T235959
DTSTAMP:20260421T105022
CREATED:20240120T163904Z
LAST-MODIFIED:20240420T150025Z
UID:5278-1712620800-1712707199@tennis-fontenilles.fr
SUMMARY:Beaumont sur Lèze Dames 35+
DESCRIPTION:Seysses TC 1 vs TCF 1 \n\n\n\nRésultat de la rencontre : 1/3 \n\n\n\nSimple 1 : Marie Jose Gante (30/2) vs Laetitia Carmouze (15/5) : 6/3 6/2 \n\n\n\nSimple 2 : Marie Ange Antunes Koffel (30/3) vs Sandy Dailly (30/1) : 0/6 0/6 \n\n\n\nDouble : Valérie Vogt (30/1 – 13) & Magalie Deleris (30/1 – 13) vs Sandra Gayraud (15/4 – 10) & Alexia Dray (30/2 – 14) : 3/6 6/2 6/10* \n\n\n\nGras = Fontenilloises /*Super tie-break
URL:https://tennis-fontenilles.fr/event/beaumont-sur-leze-dames-35-2/
CATEGORIES:Match par équipe Femmes
END:VEVENT
END:VCALENDAR