BEGIN:VCALENDAR
VERSION:2.0
PRODID:-//Tennis Club Fontenilles - ECPv6.15.16//NONSGML v1.0//EN
CALSCALE:GREGORIAN
METHOD:PUBLISH
X-WR-CALNAME:Tennis Club Fontenilles
X-ORIGINAL-URL:https://tennis-fontenilles.fr
X-WR-CALDESC:Évènements pour Tennis Club Fontenilles
REFRESH-INTERVAL;VALUE=DURATION:PT1H
X-Robots-Tag:noindex
X-PUBLISHED-TTL:PT1H
BEGIN:VTIMEZONE
TZID:Europe/Paris
BEGIN:DAYLIGHT
TZOFFSETFROM:+0100
TZOFFSETTO:+0200
TZNAME:CEST
DTSTART:20230326T010000
END:DAYLIGHT
BEGIN:STANDARD
TZOFFSETFROM:+0200
TZOFFSETTO:+0100
TZNAME:CET
DTSTART:20231029T010000
END:STANDARD
BEGIN:DAYLIGHT
TZOFFSETFROM:+0100
TZOFFSETTO:+0200
TZNAME:CEST
DTSTART:20240331T010000
END:DAYLIGHT
BEGIN:STANDARD
TZOFFSETFROM:+0200
TZOFFSETTO:+0100
TZNAME:CET
DTSTART:20241027T010000
END:STANDARD
BEGIN:DAYLIGHT
TZOFFSETFROM:+0100
TZOFFSETTO:+0200
TZNAME:CEST
DTSTART:20250330T010000
END:DAYLIGHT
BEGIN:STANDARD
TZOFFSETFROM:+0200
TZOFFSETTO:+0100
TZNAME:CET
DTSTART:20251026T010000
END:STANDARD
END:VTIMEZONE
BEGIN:VEVENT
DTSTART;TZID=Europe/Paris:20240319T000000
DTEND;TZID=Europe/Paris:20240319T235959
DTSTAMP:20260421T120119
CREATED:20231130T141051Z
LAST-MODIFIED:20240406T170620Z
UID:4883-1710806400-1710892799@tennis-fontenilles.fr
SUMMARY:Challenge Edouard Touquet Dames
DESCRIPTION:Seysses TC 1 vs TCF 2 \n\n\n\nRésultat de la rencontre : 0/4 \n\n\n\nSimple 1 : Valérie Vogt (30/1) vs Sandy Dailly (30/1) : 2/6 1/6 \n\n\n\nSimple 2 : Noëlle Thinard (30/2) vs Alexia Dray (30/2) : 2/6 0/6 \n\n\n\nDouble : Magalie Deleris (30/1) & Sonia Bec (30/5) vs Sandy Dailly (30/1) & Valérie Berthonnier (30/1) : 2/6 2/6 \n\n\n\nGras = Fontenilloises
URL:https://tennis-fontenilles.fr/event/challenge-edouard-touquet-dames-8/
CATEGORIES:Match par équipe Femmes
END:VEVENT
BEGIN:VEVENT
DTSTART;TZID=Europe/Paris:20240319T000000
DTEND;TZID=Europe/Paris:20240319T235959
DTSTAMP:20260421T120119
CREATED:20231130T141147Z
LAST-MODIFIED:20240406T170842Z
UID:4885-1710806400-1710892799@tennis-fontenilles.fr
SUMMARY:Challenge Edouard Touquet Dames
DESCRIPTION:Noé TC 1 vs TCF 1  \n\n\n\nRésultat de la rencontre : 0/4 \n\n\n\nSimple 1 : Nathalie Billamates (30/1) vs Sandra Gayraud (15/5) : 5/7 2/6Simple 2 : Pascale Romani (40) vs Noëllie Couvin (30/1) : 0/6 0/6Double : Fabienne Chansou (30/4) & Marine Watrin (30/4) vs Sandra Gayraud (15/5) & Noëllie Couvin (30/1) : 0/6 3/6Gras = Fontenilloises
URL:https://tennis-fontenilles.fr/event/challenge-edouard-touquet-dames-9/
CATEGORIES:Match par équipe Femmes
END:VEVENT
BEGIN:VEVENT
DTSTART;TZID=Europe/Paris:20240319T000000
DTEND;TZID=Europe/Paris:20240319T235959
DTSTAMP:20260421T120119
CREATED:20231130T141245Z
LAST-MODIFIED:20240406T170432Z
UID:4887-1710806400-1710892799@tennis-fontenilles.fr
SUMMARY:Challenge Edouard Touquet Dames
DESCRIPTION:Lacroix Falgarde TC 1 vs TCF 5 \n\n\n\nRésultat de la rencontre : 4/0 \n\n\n\nSimple 1 : Marlène Salvayre (30/3) vs Severina Panaete (NC) : 6/0 6/1 \n\n\n\nSimple 2 : Anne Laure Paraire (40) vs Ute Moitry (NC) : 6/0 6/0 \n\n\n\nDouble : Marlène Salvayre (30/3) & Marion Dubos (40) vs Severina Panaete (NC) & Géraldine Sheehan (40) : 4/6 7/5 10/8* \n\n\n\nGras = Fontenilloises /* Super tie-break
URL:https://tennis-fontenilles.fr/event/challenge-edouard-touquet-dames-10/
CATEGORIES:Match par équipe Femmes
END:VEVENT
END:VCALENDAR