BEGIN:VCALENDAR
VERSION:2.0
PRODID:-//Tennis Club Fontenilles - ECPv6.15.16//NONSGML v1.0//EN
CALSCALE:GREGORIAN
METHOD:PUBLISH
X-WR-CALNAME:Tennis Club Fontenilles
X-ORIGINAL-URL:https://tennis-fontenilles.fr
X-WR-CALDESC:Évènements pour Tennis Club Fontenilles
REFRESH-INTERVAL;VALUE=DURATION:PT1H
X-Robots-Tag:noindex
X-PUBLISHED-TTL:PT1H
BEGIN:VTIMEZONE
TZID:Europe/Paris
BEGIN:DAYLIGHT
TZOFFSETFROM:+0100
TZOFFSETTO:+0200
TZNAME:CEST
DTSTART:20230326T010000
END:DAYLIGHT
BEGIN:STANDARD
TZOFFSETFROM:+0200
TZOFFSETTO:+0100
TZNAME:CET
DTSTART:20231029T010000
END:STANDARD
BEGIN:DAYLIGHT
TZOFFSETFROM:+0100
TZOFFSETTO:+0200
TZNAME:CEST
DTSTART:20240331T010000
END:DAYLIGHT
BEGIN:STANDARD
TZOFFSETFROM:+0200
TZOFFSETTO:+0100
TZNAME:CET
DTSTART:20241027T010000
END:STANDARD
BEGIN:DAYLIGHT
TZOFFSETFROM:+0100
TZOFFSETTO:+0200
TZNAME:CEST
DTSTART:20250330T010000
END:DAYLIGHT
BEGIN:STANDARD
TZOFFSETFROM:+0200
TZOFFSETTO:+0100
TZNAME:CET
DTSTART:20251026T010000
END:STANDARD
END:VTIMEZONE
BEGIN:VEVENT
DTSTART;TZID=Europe/Paris:20240317T000000
DTEND;TZID=Europe/Paris:20240317T235959
DTSTAMP:20260421T115929
CREATED:20240406T165142Z
LAST-MODIFIED:20240406T165145Z
UID:5418-1710633600-1710719999@tennis-fontenilles.fr
SUMMARY:Caisse d'Epargne Messieurs
DESCRIPTION:Auzan TC 2 vs TCF 3  \n\n\n\nRésultat de la rencontre : 3/3 \n\n\n\nSimple 1 : Florent Gilly (30) vs Sébastien Latour (30/1) : 1/6 2/6 \n\n\n\nSimple 2 : Nicolas Couerbe (30) vs Kévin Duprat Moretto (30/2) : 6/4 6/2 \n\n\n\nSimple 3 : Christophe Traverso (30) vs Eric Phegnon (30/2) : 1/6 6/4 6/1 \n\n\n\nSimple 4 : Guillaume Auger (30/4) vs Jean-Christophe Ricard (40) : 6/2 6/3 \n\n\n\nDouble : Christophe Traverso (30) & Florent Gilly (30) vs Sébastien Latour (30/1) & Eric Phegnon (30/2) : 4/6 4/6 \n\n\n\nGras = Fontenillois
URL:https://tennis-fontenilles.fr/event/caisse-depargne-messieurs-6/
END:VEVENT
BEGIN:VEVENT
DTSTART;TZID=Europe/Paris:20240317T000000
DTEND;TZID=Europe/Paris:20240317T235959
DTSTAMP:20260421T115929
CREATED:20240406T165535Z
LAST-MODIFIED:20240406T165544Z
UID:5420-1710633600-1710719999@tennis-fontenilles.fr
SUMMARY:Caisse d'Epargne Dames
DESCRIPTION:TCF 2 vs Noé TC 3 \n\n\n\nRésultat de la rencontre : 3/2 \n\n\n\nSimple 1 : Sandra Gayraud (15/5) vs Laëtitia Philippon (30) : 6/4 3/6 6/2 \n\n\n\nSimple 2 : Laëtitia Carmouze (15/5) vs Nathalie Billamates (30/1) : 6/3 6/3 \n\n\n\nSimple 3 : Alexia Dray (30/2) vs Fanny Attimont (30/4) : 6/1 6/3 \n\n\n\nDouble : Léna Baillus (30) & Laëtitia Carmouze (15/5) vs Laëtitia Philippon (30) & Nathalie Billamates (30/1) : 6/3 3/6 0/10* \n\n\n\nGras = Fontenilloises / *Super tie-break
URL:https://tennis-fontenilles.fr/event/caisse-depargne-dames-2/
CATEGORIES:Match par équipe Femmes
END:VEVENT
BEGIN:VEVENT
DTSTART;TZID=Europe/Paris:20240317T000000
DTEND;TZID=Europe/Paris:20240317T235959
DTSTAMP:20260421T115929
CREATED:20240406T170114Z
LAST-MODIFIED:20240406T170116Z
UID:5422-1710633600-1710719999@tennis-fontenilles.fr
SUMMARY:Interclubs Occitanie Dames
DESCRIPTION:TCF 1 vs Colomiers US 3 \n\n\n\nRésultat de la rencontre : 6/0 \n\n\n\nSimple 1 : Isabelle Santal (4/6) vs Inès Gaidi (15/1) : 6/1 6/1 \n\n\n\nSimple 2 : Mélina Berthonnier (15/1) vs Sylvie Dorleac (15/3) : 6/1 3/1 (ab. Dorleac) \n\n\n\nSimple 3 : Florence Kuijpers (15/3) vs Annamaria Voutsela (15/4) : 6/0 6/1 \n\n\n\nSimple 4 : Soizic Carnejac (15/4) vs ALizée Gleize (15/5) : 7/6 6/1 \n\n\n\nDouble 1 : Isabelle Santal (4/6) & Soizic Carnejac (15/4) vs Inès Gaidi (15/1) & Annamaria Voutsela (15/4) : 6/1 6/1 \n\n\n\nDouble 2 : Mélina Berthonnier (15/1) & Florence Kuijpers (15/3) vs Aliée Gleize (15/5) & Carole Lenco (15/2) : 6/1 6/2 \n\n\n\nGras = Fontenilloises
URL:https://tennis-fontenilles.fr/event/interclubs-occitanie-dames-3/
CATEGORIES:Match par équipe Femmes
END:VEVENT
END:VCALENDAR