BEGIN:VCALENDAR
VERSION:2.0
PRODID:-//Tennis Club Fontenilles - ECPv6.15.16//NONSGML v1.0//EN
CALSCALE:GREGORIAN
METHOD:PUBLISH
X-WR-CALNAME:Tennis Club Fontenilles
X-ORIGINAL-URL:https://tennis-fontenilles.fr
X-WR-CALDESC:Évènements pour Tennis Club Fontenilles
REFRESH-INTERVAL;VALUE=DURATION:PT1H
X-Robots-Tag:noindex
X-PUBLISHED-TTL:PT1H
BEGIN:VTIMEZONE
TZID:Europe/Paris
BEGIN:DAYLIGHT
TZOFFSETFROM:+0100
TZOFFSETTO:+0200
TZNAME:CEST
DTSTART:20230326T010000
END:DAYLIGHT
BEGIN:STANDARD
TZOFFSETFROM:+0200
TZOFFSETTO:+0100
TZNAME:CET
DTSTART:20231029T010000
END:STANDARD
BEGIN:DAYLIGHT
TZOFFSETFROM:+0100
TZOFFSETTO:+0200
TZNAME:CEST
DTSTART:20240331T010000
END:DAYLIGHT
BEGIN:STANDARD
TZOFFSETFROM:+0200
TZOFFSETTO:+0100
TZNAME:CET
DTSTART:20241027T010000
END:STANDARD
BEGIN:DAYLIGHT
TZOFFSETFROM:+0100
TZOFFSETTO:+0200
TZNAME:CEST
DTSTART:20250330T010000
END:DAYLIGHT
BEGIN:STANDARD
TZOFFSETFROM:+0200
TZOFFSETTO:+0100
TZNAME:CET
DTSTART:20251026T010000
END:STANDARD
END:VTIMEZONE
BEGIN:VEVENT
DTSTART;TZID=Europe/Paris:20240316T000000
DTEND;TZID=Europe/Paris:20240316T235959
DTSTAMP:20260421T120118
CREATED:20240120T163350Z
LAST-MODIFIED:20240406T164646Z
UID:5272-1710547200-1710633599@tennis-fontenilles.fr
SUMMARY:Trophée Jeunes CE 13/14 G
DESCRIPTION:TCF 1 vs La Salvetat TC 1 \n\n\n\nRésultat de la rencontre : 3/0 \n\n\n\nSimple 1 : Louka Aubrejac (30/4) vs Ryan Ufferte (40) : 6/2 6/0 \n\n\n\nSimple 2 : Nathan Magnat (40) vs Noa Allogne (40) : 6/0 6/0 \n\n\n\nDouble : Thimothée Declerck (30/3) & Louka Aubrejac (30/4) vs Noa Allogne (40) & Ryan Ufferte (40) : 6/1 6/2 \n\n\n\nGras = Fontenillois
URL:https://tennis-fontenilles.fr/event/trophee-jeunes-ce-13-14-g-4/
CATEGORIES:Match par équipe Garçons
END:VEVENT
END:VCALENDAR