BEGIN:VCALENDAR
VERSION:2.0
PRODID:-//Tennis Club Fontenilles - ECPv6.15.16//NONSGML v1.0//EN
CALSCALE:GREGORIAN
METHOD:PUBLISH
X-WR-CALNAME:Tennis Club Fontenilles
X-ORIGINAL-URL:https://tennis-fontenilles.fr
X-WR-CALDESC:Évènements pour Tennis Club Fontenilles
REFRESH-INTERVAL;VALUE=DURATION:PT1H
X-Robots-Tag:noindex
X-PUBLISHED-TTL:PT1H
BEGIN:VTIMEZONE
TZID:Europe/Paris
BEGIN:DAYLIGHT
TZOFFSETFROM:+0100
TZOFFSETTO:+0200
TZNAME:CEST
DTSTART:20230326T010000
END:DAYLIGHT
BEGIN:STANDARD
TZOFFSETFROM:+0200
TZOFFSETTO:+0100
TZNAME:CET
DTSTART:20231029T010000
END:STANDARD
BEGIN:DAYLIGHT
TZOFFSETFROM:+0100
TZOFFSETTO:+0200
TZNAME:CEST
DTSTART:20240331T010000
END:DAYLIGHT
BEGIN:STANDARD
TZOFFSETFROM:+0200
TZOFFSETTO:+0100
TZNAME:CET
DTSTART:20241027T010000
END:STANDARD
BEGIN:DAYLIGHT
TZOFFSETFROM:+0100
TZOFFSETTO:+0200
TZNAME:CEST
DTSTART:20250330T010000
END:DAYLIGHT
BEGIN:STANDARD
TZOFFSETFROM:+0200
TZOFFSETTO:+0100
TZNAME:CET
DTSTART:20251026T010000
END:STANDARD
END:VTIMEZONE
BEGIN:VEVENT
DTSTART;TZID=Europe/Paris:20240313T000000
DTEND;TZID=Europe/Paris:20240313T235959
DTSTAMP:20260421T120117
CREATED:20231130T140621Z
LAST-MODIFIED:20240406T163344Z
UID:4873-1710288000-1710374399@tennis-fontenilles.fr
SUMMARY:Challenge Edouard Touquet 15/16 ans Filles
DESCRIPTION:TCF 1 vs Cugnaux J.S TC 1 \n\n\n\nRésultat de la rencontre : 0/4 \n\n\n\nSimple 1 : Diane Noves (40) vs Valentine Corbi (30/5) : 2/6 4/6 \n\n\n\nSimple 2 : Tessa Rato (40) vs Jordane Nison (40) : 0/6 0/6 \n\n\n\nDouble : Emilia Booth (NC) & Maëlys Lebreton (NC) vs Valentine Corbi (30/5) & Perrine Jobin (40) : 2/6 4/6 \n\n\n\nGras = Fontenilloises
URL:https://tennis-fontenilles.fr/event/challenge-edouard-touquet-15-16-ans-filles/
CATEGORIES:Match par équipe Filles
END:VEVENT
END:VCALENDAR