BEGIN:VCALENDAR
VERSION:2.0
PRODID:-//Tennis Club Fontenilles - ECPv6.15.16//NONSGML v1.0//EN
CALSCALE:GREGORIAN
METHOD:PUBLISH
X-ORIGINAL-URL:https://tennis-fontenilles.fr
X-WR-CALDESC:Évènements pour Tennis Club Fontenilles
REFRESH-INTERVAL;VALUE=DURATION:PT1H
X-Robots-Tag:noindex
X-PUBLISHED-TTL:PT1H
BEGIN:VTIMEZONE
TZID:Europe/Paris
BEGIN:DAYLIGHT
TZOFFSETFROM:+0100
TZOFFSETTO:+0200
TZNAME:CEST
DTSTART:20230326T010000
END:DAYLIGHT
BEGIN:STANDARD
TZOFFSETFROM:+0200
TZOFFSETTO:+0100
TZNAME:CET
DTSTART:20231029T010000
END:STANDARD
BEGIN:DAYLIGHT
TZOFFSETFROM:+0100
TZOFFSETTO:+0200
TZNAME:CEST
DTSTART:20240331T010000
END:DAYLIGHT
BEGIN:STANDARD
TZOFFSETFROM:+0200
TZOFFSETTO:+0100
TZNAME:CET
DTSTART:20241027T010000
END:STANDARD
BEGIN:DAYLIGHT
TZOFFSETFROM:+0100
TZOFFSETTO:+0200
TZNAME:CEST
DTSTART:20250330T010000
END:DAYLIGHT
BEGIN:STANDARD
TZOFFSETFROM:+0200
TZOFFSETTO:+0100
TZNAME:CET
DTSTART:20251026T010000
END:STANDARD
END:VTIMEZONE
BEGIN:VEVENT
DTSTART;TZID=Europe/Paris:20240309T000000
DTEND;TZID=Europe/Paris:20240309T235959
DTSTAMP:20260421T120536
CREATED:20240120T163255Z
LAST-MODIFIED:20240406T161929Z
UID:5270-1709942400-1710028799@tennis-fontenilles.fr
SUMMARY:Trophée Jeunes CE 13/14 G
DESCRIPTION:Brax TC 2 vs TCF 1 \n\n\n\nRésultat de la rencontre : 3/0  \n\n\n\nSimple 1 : Clément Precheur Bodin (30/4) vs Thimotée Declerck (30/3) : 6/2 6/0 \n\n\n\nSimple 2 : Emile Racaud Espinosa (30/5) vs Louka Aubrejac (30/4) : 6/4 7/5 \n\n\n\nDouble : Clément Precheur Bodin (30/4) & Emile Racaud Espinosa (30/5) vs Thimotée Declerck (30/3) & Nathan Magnat (40) : 6/4 6/1 \n\n\n\nGras = Fontenillois
URL:https://tennis-fontenilles.fr/event/trophee-jeunes-ce-13-14-g-3/
CATEGORIES:Match par équipe Garçons
END:VEVENT
END:VCALENDAR