BEGIN:VCALENDAR
VERSION:2.0
PRODID:-//Tennis Club Fontenilles - ECPv6.15.16//NONSGML v1.0//EN
CALSCALE:GREGORIAN
METHOD:PUBLISH
X-WR-CALNAME:Tennis Club Fontenilles
X-ORIGINAL-URL:https://tennis-fontenilles.fr
X-WR-CALDESC:Évènements pour Tennis Club Fontenilles
REFRESH-INTERVAL;VALUE=DURATION:PT1H
X-Robots-Tag:noindex
X-PUBLISHED-TTL:PT1H
BEGIN:VTIMEZONE
TZID:Europe/Paris
BEGIN:DAYLIGHT
TZOFFSETFROM:+0100
TZOFFSETTO:+0200
TZNAME:CEST
DTSTART:20230326T010000
END:DAYLIGHT
BEGIN:STANDARD
TZOFFSETFROM:+0200
TZOFFSETTO:+0100
TZNAME:CET
DTSTART:20231029T010000
END:STANDARD
BEGIN:DAYLIGHT
TZOFFSETFROM:+0100
TZOFFSETTO:+0200
TZNAME:CEST
DTSTART:20240331T010000
END:DAYLIGHT
BEGIN:STANDARD
TZOFFSETFROM:+0200
TZOFFSETTO:+0100
TZNAME:CET
DTSTART:20241027T010000
END:STANDARD
BEGIN:DAYLIGHT
TZOFFSETFROM:+0100
TZOFFSETTO:+0200
TZNAME:CEST
DTSTART:20250330T010000
END:DAYLIGHT
BEGIN:STANDARD
TZOFFSETFROM:+0200
TZOFFSETTO:+0100
TZNAME:CET
DTSTART:20251026T010000
END:STANDARD
END:VTIMEZONE
BEGIN:VEVENT
DTSTART;TZID=Europe/Paris:20240120T000000
DTEND;TZID=Europe/Paris:20240120T235959
DTSTAMP:20260421T144901
CREATED:20240120T145523Z
LAST-MODIFIED:20240127T163029Z
UID:5238-1705708800-1705795199@tennis-fontenilles.fr
SUMMARY:Trophée Jeunes CE 11/12 G
DESCRIPTION:TCF 1 vs Blagnac TC 4 \n\n\n\nRésultat de la rencontre : 2/1 \n\n\n\nSimple 1 : Julien Galline Tost (30/3) vs Julien Longeaux (30/3) : 6/1 6/2 \n\n\n\nSimple 2 : Edouard Fessaguet (40) vs Zachary Normand (40) : 7/6 2/6 5/10* \n\n\n\nDouble : Mathis Bholah (30/4) & Julien Galline Tost (30/3) vs Julien Longeaux (30/3) & Gustave Nau (40) : 6/1 6/2 \n\n\n\nGras = Fontenillois /*Super tie-break
URL:https://tennis-fontenilles.fr/event/trophee-jeunes-ce-11-12-g/
CATEGORIES:Match par équipe Garçons
END:VEVENT
BEGIN:VEVENT
DTSTART;TZID=Europe/Paris:20240120T000000
DTEND;TZID=Europe/Paris:20240120T235959
DTSTAMP:20260421T144901
CREATED:20240120T145644Z
LAST-MODIFIED:20240127T163303Z
UID:5240-1705708800-1705795199@tennis-fontenilles.fr
SUMMARY:Trophée Jeunes CE 15/16/17/18 F
DESCRIPTION:Cornebarrieu TC 2 vs TCF 1  \n\n\n\nRésultat de la rencontre : 0/3 \n\n\n\nSimple 1 : Alix Daste (30/1) vs Léna Baillus (30) : 3/6 2/6 \n\n\n\nSimple 2 : Sofia Lanzotti (30/1) vs Noellie Couvin (30/1) : 0/6 3/6 \n\n\n\nDouble : Alix Daste (30/1) & Sofia Lanzotti (30/1) vs Léna Baillus (30) & Noellie Couvin (30/1) : 3/6 1/6 \n\n\n\nGras = Fontenilloises
URL:https://tennis-fontenilles.fr/event/trophee-jeunes-ce-15-16-17-18-f/
CATEGORIES:Match par équipe Filles
END:VEVENT
BEGIN:VEVENT
DTSTART;TZID=Europe/Paris:20240120T000000
DTEND;TZID=Europe/Paris:20240120T235959
DTSTAMP:20260421T144901
CREATED:20240120T145926Z
LAST-MODIFIED:20240127T162742Z
UID:5243-1705708800-1705795199@tennis-fontenilles.fr
SUMMARY:Championnat Départemental de Doubles Dames
DESCRIPTION:Portet TC 1 vs TCF 1  \n\n\n\nRésultat de la rencontre : 2/0 \n\n\n\nDouble : Stéphanie Rodriguez (15/2 – 8) & Agnès Pereillo (15/3 – 9) vs Mélina Berthonnier (15/1 – 7) & Florence Kuijpers (15/5 – 11) : 6/3 6/3 \n\n\n\nGras = Fontenilloises
URL:https://tennis-fontenilles.fr/event/championnat-departemental-de-doubles-dames-8/
END:VEVENT
END:VCALENDAR