BEGIN:VCALENDAR
VERSION:2.0
PRODID:-//Tennis Club Fontenilles - ECPv6.15.16//NONSGML v1.0//EN
CALSCALE:GREGORIAN
METHOD:PUBLISH
X-WR-CALNAME:Tennis Club Fontenilles
X-ORIGINAL-URL:https://tennis-fontenilles.fr
X-WR-CALDESC:Évènements pour Tennis Club Fontenilles
REFRESH-INTERVAL;VALUE=DURATION:PT1H
X-Robots-Tag:noindex
X-PUBLISHED-TTL:PT1H
BEGIN:VTIMEZONE
TZID:Europe/Paris
BEGIN:DAYLIGHT
TZOFFSETFROM:+0100
TZOFFSETTO:+0200
TZNAME:CEST
DTSTART:20230326T010000
END:DAYLIGHT
BEGIN:STANDARD
TZOFFSETFROM:+0200
TZOFFSETTO:+0100
TZNAME:CET
DTSTART:20231029T010000
END:STANDARD
BEGIN:DAYLIGHT
TZOFFSETFROM:+0100
TZOFFSETTO:+0200
TZNAME:CEST
DTSTART:20240331T010000
END:DAYLIGHT
BEGIN:STANDARD
TZOFFSETFROM:+0200
TZOFFSETTO:+0100
TZNAME:CET
DTSTART:20241027T010000
END:STANDARD
BEGIN:DAYLIGHT
TZOFFSETFROM:+0100
TZOFFSETTO:+0200
TZNAME:CEST
DTSTART:20250330T010000
END:DAYLIGHT
BEGIN:STANDARD
TZOFFSETFROM:+0200
TZOFFSETTO:+0100
TZNAME:CET
DTSTART:20251026T010000
END:STANDARD
END:VTIMEZONE
BEGIN:VEVENT
DTSTART;TZID=Europe/Paris:20240116T000000
DTEND;TZID=Europe/Paris:20240116T235959
DTSTAMP:20260421T144926
CREATED:20231129T153744Z
LAST-MODIFIED:20240110T141906Z
UID:4815-1705363200-1705449599@tennis-fontenilles.fr
SUMMARY:Challenge Edouard Touquet Dames
DESCRIPTION:TCF 2 vs Roquettes TC 2 \n\n\n\nRésultat de la rencontre : 3/1 \n\n\n\nSimple 1 : Sandy Dailly (30/1) vs Clémence Martin (30/3) : 6/1 6/2 \n\n\n\nSimple 2 : Alexia Dray (30/2) vs Vickie Jacquard (30/2) : 4/6 6/7 \n\n\n\nDouble : Sandy Dailly (30/1 – 13) & Alexia Dray (30/2 – 14) vs Clémence Martin (30/3 – 15) & Vickie Jacquard (30/2 – x14) : 6/0 6/1 \n\n\n\nGras = Fontenilloises
URL:https://tennis-fontenilles.fr/event/challenge-edouard-touquet-dames/
CATEGORIES:Match par équipe Femmes
END:VEVENT
BEGIN:VEVENT
DTSTART;TZID=Europe/Paris:20240116T000000
DTEND;TZID=Europe/Paris:20240116T235959
DTSTAMP:20260421T144926
CREATED:20231129T153931Z
LAST-MODIFIED:20240120T143419Z
UID:4819-1705363200-1705449599@tennis-fontenilles.fr
SUMMARY:Challenge Edouard Touquet Dames
DESCRIPTION:TCF 1 vs Lavernose Lacasse 1 \n\n\n\nRésultat de la rencontre : 3/1 \n\n\n\nSimple 1 : Léna Baillus (30) abandon vs Anaïs Segrestaa (30) : 5/4 \n\n\n\nSimple 2 : Constance Chalard (30/1) vs Patricia Hennequin (30/1) : 6/2 6/1 \n\n\n\nDouble : Noellie Couvin (30/1) & Léna Baillus (30) vs Alison Joncheray (30/1) & Laurence Larribeau (30/1) \n\n\n\nGras = Fontenilloises
URL:https://tennis-fontenilles.fr/event/challenge-edouard-touquet-dames-2/
CATEGORIES:Match par équipe Femmes
END:VEVENT
BEGIN:VEVENT
DTSTART;TZID=Europe/Paris:20240116T000000
DTEND;TZID=Europe/Paris:20240116T235959
DTSTAMP:20260421T144926
CREATED:20231129T154149Z
LAST-MODIFIED:20240110T141508Z
UID:4821-1705363200-1705449599@tennis-fontenilles.fr
SUMMARY:Challenge Edouard Touquet Dames
DESCRIPTION:TCF 4 vs Cugnaux JS 3 \n\n\n\nRésultat de la rencontre : 4/0 \n\n\n\nSimple 1 : Carole Moulis (30/4) vs Elodie Maillet (NC) : 4/6 6/3 10/4* \n\n\n\nSimple 2 : Alexandra Duffourc (30/5) vs Christine Dubois (40) : 6/2 6/3 \n\n\n\nDouble : Carole Moulis (30/4 – 16) & Alexandra Duffourc (30/5 – 17) vs Christine Dubois (40 – 18) & Elodie Maillet (NC – 19) : 6/1 6/2 \n\n\n\nGras = Fontenilloises /*Super tie-break
URL:https://tennis-fontenilles.fr/event/challenge-edouard-touquet-dames-3/
CATEGORIES:Match par équipe Femmes
END:VEVENT
BEGIN:VEVENT
DTSTART;TZID=Europe/Paris:20240116T000000
DTEND;TZID=Europe/Paris:20240116T235959
DTSTAMP:20260421T144926
CREATED:20231129T154513Z
LAST-MODIFIED:20240120T143705Z
UID:4829-1705363200-1705449599@tennis-fontenilles.fr
SUMMARY:Challenge Edouard Touquet Dames
DESCRIPTION:Auterive TC 1 vs TCF 5 \n\n\n\nRésultat de la rencontre : 4/0 \n\n\n\nBéatrice Antunes (30/5) vs Géraldine Sheehan (NC) : 6/3 6/0 \n\n\n\nManon Genet (30/4) vs Cathy Arraez (NC) 6/0 6/0 \n\n\n\nAmandine Da Silva (40) & Valérie Sandre Ragne (40) vs Cathy Arraez (NC) & Géraldine Sheehan (NC) : 6/2 6/0 \n\n\n\nGras = Fontenilloises
URL:https://tennis-fontenilles.fr/event/challenge-edouard-touquet-dames-4/
CATEGORIES:Match par équipe Femmes
END:VEVENT
END:VCALENDAR