BEGIN:VCALENDAR
VERSION:2.0
PRODID:-//Tennis Club Fontenilles - ECPv6.15.16//NONSGML v1.0//EN
CALSCALE:GREGORIAN
METHOD:PUBLISH
X-WR-CALNAME:Tennis Club Fontenilles
X-ORIGINAL-URL:https://tennis-fontenilles.fr
X-WR-CALDESC:Évènements pour Tennis Club Fontenilles
REFRESH-INTERVAL;VALUE=DURATION:PT1H
X-Robots-Tag:noindex
X-PUBLISHED-TTL:PT1H
BEGIN:VTIMEZONE
TZID:Europe/Paris
BEGIN:DAYLIGHT
TZOFFSETFROM:+0100
TZOFFSETTO:+0200
TZNAME:CEST
DTSTART:20220327T010000
END:DAYLIGHT
BEGIN:STANDARD
TZOFFSETFROM:+0200
TZOFFSETTO:+0100
TZNAME:CET
DTSTART:20221030T010000
END:STANDARD
BEGIN:DAYLIGHT
TZOFFSETFROM:+0100
TZOFFSETTO:+0200
TZNAME:CEST
DTSTART:20230326T010000
END:DAYLIGHT
BEGIN:STANDARD
TZOFFSETFROM:+0200
TZOFFSETTO:+0100
TZNAME:CET
DTSTART:20231029T010000
END:STANDARD
BEGIN:DAYLIGHT
TZOFFSETFROM:+0100
TZOFFSETTO:+0200
TZNAME:CEST
DTSTART:20240331T010000
END:DAYLIGHT
BEGIN:STANDARD
TZOFFSETFROM:+0200
TZOFFSETTO:+0100
TZNAME:CET
DTSTART:20241027T010000
END:STANDARD
END:VTIMEZONE
BEGIN:VEVENT
DTSTART;TZID=Europe/Paris:20231223T000000
DTEND;TZID=Europe/Paris:20231223T235959
DTSTAMP:20260421T160645
CREATED:20231209T143155Z
LAST-MODIFIED:20240104T165201Z
UID:5013-1703289600-1703375999@tennis-fontenilles.fr
SUMMARY:Championnat Départemental de Doubles Dames
DESCRIPTION:TC Blagnac 1 vs TCF 1 \n\n\n\nRésultat de la rencontre : 0/2  \n\n\n\nDouble : Corinne Bieder (15/5 – 11) & Marine Garnier (15/5 – 11) vs Mélina Berthonnier (15/1 – 7) & Florence Kuijpers (15/5 – 11)
URL:https://tennis-fontenilles.fr/event/championnat-departemental-de-doubles-dames-5/
END:VEVENT
BEGIN:VEVENT
DTSTART;TZID=Europe/Paris:20231223T000000
DTEND;TZID=Europe/Paris:20231223T235959
DTSTAMP:20260421T160645
CREATED:20231209T143255Z
LAST-MODIFIED:20240105T131912Z
UID:5015-1703289600-1703375999@tennis-fontenilles.fr
SUMMARY:Championnat Départemental de Doubles Dames
DESCRIPTION:Fronton TC 1 vs TCF 2 \n\n\n\nRésultat de la rencontre : 0/2 \n\n\n\nDouble :Nathalie Delmas (15/3 – 9) & Nathalie Gardin (15/3 – 9) vs Inès Laurent (15/3 – 9) & Constance Chalard (30/1 – 13) : 4/6 5/7  \n\n\n\nGras = Fontenilloises
URL:https://tennis-fontenilles.fr/event/championnat-departemental-de-doubles-dames-6/
END:VEVENT
END:VCALENDAR