BEGIN:VCALENDAR
VERSION:2.0
PRODID:-//Tennis Club Fontenilles - ECPv6.15.16//NONSGML v1.0//EN
CALSCALE:GREGORIAN
METHOD:PUBLISH
X-WR-CALNAME:Tennis Club Fontenilles
X-ORIGINAL-URL:https://tennis-fontenilles.fr
X-WR-CALDESC:Évènements pour Tennis Club Fontenilles
REFRESH-INTERVAL;VALUE=DURATION:PT1H
X-Robots-Tag:noindex
X-PUBLISHED-TTL:PT1H
BEGIN:VTIMEZONE
TZID:Europe/Paris
BEGIN:DAYLIGHT
TZOFFSETFROM:+0100
TZOFFSETTO:+0200
TZNAME:CEST
DTSTART:20220327T010000
END:DAYLIGHT
BEGIN:STANDARD
TZOFFSETFROM:+0200
TZOFFSETTO:+0100
TZNAME:CET
DTSTART:20221030T010000
END:STANDARD
BEGIN:DAYLIGHT
TZOFFSETFROM:+0100
TZOFFSETTO:+0200
TZNAME:CEST
DTSTART:20230326T010000
END:DAYLIGHT
BEGIN:STANDARD
TZOFFSETFROM:+0200
TZOFFSETTO:+0100
TZNAME:CET
DTSTART:20231029T010000
END:STANDARD
BEGIN:DAYLIGHT
TZOFFSETFROM:+0100
TZOFFSETTO:+0200
TZNAME:CEST
DTSTART:20240331T010000
END:DAYLIGHT
BEGIN:STANDARD
TZOFFSETFROM:+0200
TZOFFSETTO:+0100
TZNAME:CET
DTSTART:20241027T010000
END:STANDARD
END:VTIMEZONE
BEGIN:VEVENT
DTSTART;TZID=Europe/Paris:20231209T000000
DTEND;TZID=Europe/Paris:20231210T235959
DTSTAMP:20260421T160639
CREATED:20231125T152953Z
LAST-MODIFIED:20231129T161211Z
UID:4786-1702080000-1702252799@tennis-fontenilles.fr
SUMMARY:Galaxie Tennis Orange
DESCRIPTION:
URL:https://tennis-fontenilles.fr/event/plateau-orange/
CATEGORIES:Compétitions du TCF
END:VEVENT
BEGIN:VEVENT
DTSTART;TZID=Europe/Paris:20231210T000000
DTEND;TZID=Europe/Paris:20231210T235959
DTSTAMP:20260421T160639
CREATED:20231129T153021Z
LAST-MODIFIED:20231213T151349Z
UID:4803-1702166400-1702252799@tennis-fontenilles.fr
SUMMARY:Challenge André Laffont Messieurs
DESCRIPTION:Arnaune Tennis & Omnisport vs TCF \n\n\n\nRésultat de la rencontre : 2/3 \n\n\n\nSimple 1 : Baptiste Hamousin (15/2) vs Patrice Cossard (15/3) : 2/6 5/7 \n\n\n\nSimple 2 : Arnaud Robin (15/2) vs Théo Maylin (15/3) : 7/6 6/2 \n\n\n\nSimple 3 : Laurent Saint-Raymond (15/3) vs Maxime Lebecq (15/3) : 1/6 7/6 2/6 \n\n\n\nSimple 4 : Alban Martinez (15/4) vs Romain Cappellaro (30) : 6/0 5/7 6/1 \n\n\n\nDouble : Baptiste Hamousin (15/2 – 8) & Arnaud Robin (15/2- 8) vs Patrice Cossard (15/3 – 9) & Théo Maylin (15/3 – 9) : 1/6 6/7 \n\n\n\nhttps://tenup.fft.fr/championnat/82390838/feuille-de-match/7207834 \n\n\n\nGras = Fontenillois
URL:https://tennis-fontenilles.fr/event/challenge-andre-laffont-messieurs/
CATEGORIES:Match par équipe Hommes
END:VEVENT
BEGIN:VEVENT
DTSTART;TZID=Europe/Paris:20231210T000000
DTEND;TZID=Europe/Paris:20231210T235959
DTSTAMP:20260421T160639
CREATED:20231129T153133Z
LAST-MODIFIED:20231213T151643Z
UID:4805-1702166400-1702252799@tennis-fontenilles.fr
SUMMARY:Challenge André Laffont Dames
DESCRIPTION:TCF vs T.A.C TC \n\n\n\nRésultat de la rencontre : 3/2 \n\n\n\nSimple 1 : Mélina Berthonnier (15/1) vs Anaïs Maziers (15/2) : 5/7 3/6 \n\n\n\nSimple 2 : Inès Laurent (15/3) vs Sonia Dehimi (15/3) : 4/6 6/2 6/3 \n\n\n\nSimple 3 : Florence Kuijpers (15/5) vs Carine Matip (15/4) : 7/5 6/3 \n\n\n\nSimple 4 : Léna Baillus (30) vs Antua Adana (30) : 6/3 4/6 6/2 \n\n\n\nDouble : Inès Laurent (15/3 – 9) & Sandra Gayraud (30 – 12) vs Anaïs Mazieres (15/2 – 8) & Sonia Dehimi (15/3 – 9) : 1/6 4/6 \n\n\n\nhttps://tenup.fft.fr/championnat/82390837/feuille-de-match/7210211
URL:https://tennis-fontenilles.fr/event/challenge-andre-laffont-dames/
CATEGORIES:Match par équipe Femmes
END:VEVENT
END:VCALENDAR