BEGIN:VCALENDAR
VERSION:2.0
PRODID:-//Tennis Club Fontenilles - ECPv6.15.16//NONSGML v1.0//EN
CALSCALE:GREGORIAN
METHOD:PUBLISH
X-ORIGINAL-URL:https://tennis-fontenilles.fr
X-WR-CALDESC:Évènements pour Tennis Club Fontenilles
REFRESH-INTERVAL;VALUE=DURATION:PT1H
X-Robots-Tag:noindex
X-PUBLISHED-TTL:PT1H
BEGIN:VTIMEZONE
TZID:Europe/Paris
BEGIN:DAYLIGHT
TZOFFSETFROM:+0100
TZOFFSETTO:+0200
TZNAME:CEST
DTSTART:20220327T010000
END:DAYLIGHT
BEGIN:STANDARD
TZOFFSETFROM:+0200
TZOFFSETTO:+0100
TZNAME:CET
DTSTART:20221030T010000
END:STANDARD
BEGIN:DAYLIGHT
TZOFFSETFROM:+0100
TZOFFSETTO:+0200
TZNAME:CEST
DTSTART:20230326T010000
END:DAYLIGHT
BEGIN:STANDARD
TZOFFSETFROM:+0200
TZOFFSETTO:+0100
TZNAME:CET
DTSTART:20231029T010000
END:STANDARD
BEGIN:DAYLIGHT
TZOFFSETFROM:+0100
TZOFFSETTO:+0200
TZNAME:CEST
DTSTART:20240331T010000
END:DAYLIGHT
BEGIN:STANDARD
TZOFFSETFROM:+0200
TZOFFSETTO:+0100
TZNAME:CET
DTSTART:20241027T010000
END:STANDARD
END:VTIMEZONE
BEGIN:VEVENT
DTSTART;TZID=Europe/Paris:20231209T000000
DTEND;TZID=Europe/Paris:20231209T235959
DTSTAMP:20260421T161150
CREATED:20231129T152806Z
LAST-MODIFIED:20231208T144944Z
UID:4799-1702080000-1702166399@tennis-fontenilles.fr
SUMMARY:Championnat Départemental de Doubles Dames
DESCRIPTION:Saint Martory TC 1 vs TCF 3 \n\n\n\nRésultat de la rencontre : 2/0 \n\n\n\nDouble : Sandrine Cardaillac (15/1 – 7) & Yola Camin (30 – 12) vs Sandra Gayraud (30 & 12) & Valérie Tonel (30/4 – 16) : 6/3 6/1 \n\n\n\nGras = Fontenilloises
URL:https://tennis-fontenilles.fr/event/championnat-departemental-de-doubles-dames-3/
CATEGORIES:Match par équipe Femmes
END:VEVENT
BEGIN:VEVENT
DTSTART;TZID=Europe/Paris:20231209T000000
DTEND;TZID=Europe/Paris:20231209T235959
DTSTAMP:20260421T161150
CREATED:20231129T152913Z
LAST-MODIFIED:20231208T144909Z
UID:4801-1702080000-1702166399@tennis-fontenilles.fr
SUMMARY:Championnat Départemental de Doubles Dames
DESCRIPTION:TCF 2 vs Levignac TC 1 \n\n\n\nRésultat de la rencontre : 2/0 \n\n\n\nDouble : Ines Laurent (15/3 – 9) & Constance Chalard (30/1 – 13) vs Claire Dufau (15/5 – 11) & Marion Simon (30/2 – 14) : 6/2 7/6 \n\n\n\nGras = Fontenilloises
URL:https://tennis-fontenilles.fr/event/championnat-departemental-de-doubles-dames-4/
CATEGORIES:Match par équipe Femmes
END:VEVENT
BEGIN:VEVENT
DTSTART;TZID=Europe/Paris:20231209T000000
DTEND;TZID=Europe/Paris:20231210T235959
DTSTAMP:20260421T161150
CREATED:20231125T152953Z
LAST-MODIFIED:20231129T161211Z
UID:4786-1702080000-1702252799@tennis-fontenilles.fr
SUMMARY:Galaxie Tennis Orange
DESCRIPTION:
URL:https://tennis-fontenilles.fr/event/plateau-orange/
CATEGORIES:Compétitions du TCF
END:VEVENT
END:VCALENDAR