BEGIN:VCALENDAR
VERSION:2.0
PRODID:-//Tennis Club Fontenilles - ECPv6.15.16//NONSGML v1.0//EN
CALSCALE:GREGORIAN
METHOD:PUBLISH
X-WR-CALNAME:Tennis Club Fontenilles
X-ORIGINAL-URL:https://tennis-fontenilles.fr
X-WR-CALDESC:Évènements pour Tennis Club Fontenilles
REFRESH-INTERVAL;VALUE=DURATION:PT1H
X-Robots-Tag:noindex
X-PUBLISHED-TTL:PT1H
BEGIN:VTIMEZONE
TZID:Europe/Paris
BEGIN:DAYLIGHT
TZOFFSETFROM:+0100
TZOFFSETTO:+0200
TZNAME:CEST
DTSTART:20220327T010000
END:DAYLIGHT
BEGIN:STANDARD
TZOFFSETFROM:+0200
TZOFFSETTO:+0100
TZNAME:CET
DTSTART:20221030T010000
END:STANDARD
BEGIN:DAYLIGHT
TZOFFSETFROM:+0100
TZOFFSETTO:+0200
TZNAME:CEST
DTSTART:20230326T010000
END:DAYLIGHT
BEGIN:STANDARD
TZOFFSETFROM:+0200
TZOFFSETTO:+0100
TZNAME:CET
DTSTART:20231029T010000
END:STANDARD
BEGIN:DAYLIGHT
TZOFFSETFROM:+0100
TZOFFSETTO:+0200
TZNAME:CEST
DTSTART:20240331T010000
END:DAYLIGHT
BEGIN:STANDARD
TZOFFSETFROM:+0200
TZOFFSETTO:+0100
TZNAME:CET
DTSTART:20241027T010000
END:STANDARD
END:VTIMEZONE
BEGIN:VEVENT
DTSTART;TZID=Europe/Paris:20231202T160000
DTEND;TZID=Europe/Paris:20231203T160000
DTSTAMP:20260421T160712
CREATED:20231116T121124Z
LAST-MODIFIED:20231125T150525Z
UID:4725-1701532800-1701619200@tennis-fontenilles.fr
SUMMARY:Les 24h du Téléthon
DESCRIPTION:Venez nombreux !  \n\n\n\nhttps://www.facebook.com/reel/2546072098893696
URL:https://tennis-fontenilles.fr/event/les-24h-du-telethon/
CATEGORIES:Vie du Club
END:VEVENT
END:VCALENDAR