BEGIN:VCALENDAR
VERSION:2.0
PRODID:-//Tennis Club Fontenilles - ECPv6.15.16//NONSGML v1.0//EN
CALSCALE:GREGORIAN
METHOD:PUBLISH
X-WR-CALNAME:Tennis Club Fontenilles
X-ORIGINAL-URL:https://tennis-fontenilles.fr
X-WR-CALDESC:Évènements pour Tennis Club Fontenilles
REFRESH-INTERVAL;VALUE=DURATION:PT1H
X-Robots-Tag:noindex
X-PUBLISHED-TTL:PT1H
BEGIN:VTIMEZONE
TZID:Europe/Paris
BEGIN:DAYLIGHT
TZOFFSETFROM:+0100
TZOFFSETTO:+0200
TZNAME:CEST
DTSTART:20220327T010000
END:DAYLIGHT
BEGIN:STANDARD
TZOFFSETFROM:+0200
TZOFFSETTO:+0100
TZNAME:CET
DTSTART:20221030T010000
END:STANDARD
BEGIN:DAYLIGHT
TZOFFSETFROM:+0100
TZOFFSETTO:+0200
TZNAME:CEST
DTSTART:20230326T010000
END:DAYLIGHT
BEGIN:STANDARD
TZOFFSETFROM:+0200
TZOFFSETTO:+0100
TZNAME:CET
DTSTART:20231029T010000
END:STANDARD
BEGIN:DAYLIGHT
TZOFFSETFROM:+0100
TZOFFSETTO:+0200
TZNAME:CEST
DTSTART:20240331T010000
END:DAYLIGHT
BEGIN:STANDARD
TZOFFSETFROM:+0200
TZOFFSETTO:+0100
TZNAME:CET
DTSTART:20241027T010000
END:STANDARD
END:VTIMEZONE
BEGIN:VEVENT
DTSTART;TZID=Europe/Paris:20231125T000000
DTEND;TZID=Europe/Paris:20231125T235959
DTSTAMP:20260421T174043
CREATED:20231124T145257Z
LAST-MODIFIED:20231129T163932Z
UID:4774-1700870400-1700956799@tennis-fontenilles.fr
SUMMARY:Championnat Départemental de Doubles Dames
DESCRIPTION:Fonsorbes TC 1 vs TCF 3 : \n\n\n\nRésultat de la rencontre : 0/2 \n\n\n\nDouble : Inès Caillaba (15/5 – 11) & Sidonie Thery (30 – 12) vs Sandra Gayraud (30 – 12) & Valérie Tonel (30/4 – 16) : 2/6 4/6 \n\n\n\nhttps://tenup.fft.fr/championnat/82400268/feuille-de-match/7176422 \n\n\n\nGras = Fontenillois /*Super tie-break
URL:https://tennis-fontenilles.fr/event/championnat-departemental-de-doubles-dames-2/
CATEGORIES:Match par équipe Femmes
END:VEVENT
END:VCALENDAR