BEGIN:VCALENDAR
VERSION:2.0
PRODID:-//Tennis Club Fontenilles - ECPv6.15.16//NONSGML v1.0//EN
CALSCALE:GREGORIAN
METHOD:PUBLISH
X-ORIGINAL-URL:https://tennis-fontenilles.fr
X-WR-CALDESC:Évènements pour Tennis Club Fontenilles
REFRESH-INTERVAL;VALUE=DURATION:PT1H
X-Robots-Tag:noindex
X-PUBLISHED-TTL:PT1H
BEGIN:VTIMEZONE
TZID:Europe/Paris
BEGIN:DAYLIGHT
TZOFFSETFROM:+0100
TZOFFSETTO:+0200
TZNAME:CEST
DTSTART:20220327T010000
END:DAYLIGHT
BEGIN:STANDARD
TZOFFSETFROM:+0200
TZOFFSETTO:+0100
TZNAME:CET
DTSTART:20221030T010000
END:STANDARD
BEGIN:DAYLIGHT
TZOFFSETFROM:+0100
TZOFFSETTO:+0200
TZNAME:CEST
DTSTART:20230326T010000
END:DAYLIGHT
BEGIN:STANDARD
TZOFFSETFROM:+0200
TZOFFSETTO:+0100
TZNAME:CET
DTSTART:20231029T010000
END:STANDARD
BEGIN:DAYLIGHT
TZOFFSETFROM:+0100
TZOFFSETTO:+0200
TZNAME:CEST
DTSTART:20240331T010000
END:DAYLIGHT
BEGIN:STANDARD
TZOFFSETFROM:+0200
TZOFFSETTO:+0100
TZNAME:CET
DTSTART:20241027T010000
END:STANDARD
END:VTIMEZONE
BEGIN:VEVENT
DTSTART;TZID=Europe/Paris:20231111T000000
DTEND;TZID=Europe/Paris:20231111T235959
DTSTAMP:20260421T174546
CREATED:20231124T143801Z
LAST-MODIFIED:20231129T164041Z
UID:4765-1699660800-1699747199@tennis-fontenilles.fr
SUMMARY:Championnat Départemental de Doubles Dames
DESCRIPTION:Seysses TC 1 vs TCF 3 \n\n\n\nRésultat de la rencontre : 0/2 Double : Valérie Vogt (30 & 12) & Magali Deleris (30/1 & 13) vs Sandra Gayraud (30 – 12) & Valérie Tonel (30/4 – 16) : 1/6 2/6 \n\n\n\nhttps://tenup.fft.fr/championnat/82400268/feuille-de-match/7152568 \n\n\n\nGras = Fontenillois /*Super tie-break
URL:https://tennis-fontenilles.fr/event/championnat-departemental-de-doubles-dames/
CATEGORIES:Match par équipe Femmes
END:VEVENT
END:VCALENDAR