BEGIN:VCALENDAR
VERSION:2.0
PRODID:-//Tennis Club Fontenilles - ECPv6.15.16//NONSGML v1.0//EN
CALSCALE:GREGORIAN
METHOD:PUBLISH
X-WR-CALNAME:Tennis Club Fontenilles
X-ORIGINAL-URL:https://tennis-fontenilles.fr
X-WR-CALDESC:Évènements pour Tennis Club Fontenilles
REFRESH-INTERVAL;VALUE=DURATION:PT1H
X-Robots-Tag:noindex
X-PUBLISHED-TTL:PT1H
BEGIN:VTIMEZONE
TZID:Europe/Paris
BEGIN:DAYLIGHT
TZOFFSETFROM:+0100
TZOFFSETTO:+0200
TZNAME:CEST
DTSTART:20230326T010000
END:DAYLIGHT
BEGIN:STANDARD
TZOFFSETFROM:+0200
TZOFFSETTO:+0100
TZNAME:CET
DTSTART:20231029T010000
END:STANDARD
BEGIN:DAYLIGHT
TZOFFSETFROM:+0100
TZOFFSETTO:+0200
TZNAME:CEST
DTSTART:20240331T010000
END:DAYLIGHT
BEGIN:STANDARD
TZOFFSETFROM:+0200
TZOFFSETTO:+0100
TZNAME:CET
DTSTART:20241027T010000
END:STANDARD
BEGIN:DAYLIGHT
TZOFFSETFROM:+0100
TZOFFSETTO:+0200
TZNAME:CEST
DTSTART:20250330T010000
END:DAYLIGHT
BEGIN:STANDARD
TZOFFSETFROM:+0200
TZOFFSETTO:+0100
TZNAME:CET
DTSTART:20251026T010000
END:STANDARD
END:VTIMEZONE
BEGIN:VEVENT
DTSTART;TZID=Europe/Paris:20240127T000000
DTEND;TZID=Europe/Paris:20240127T235959
DTSTAMP:20260421T145540
CREATED:20240120T152726Z
LAST-MODIFIED:20240131T134136Z
UID:5246-1706313600-1706399999@tennis-fontenilles.fr
SUMMARY:Trophée Jeunes CE 15/16 G
DESCRIPTION:TCF 1 vs Tournefeuille TC 2 \n\n\n\nRésultat de la rencontre : 0/3 \n\n\n\nSimple 1 : Yann Bholah (30/1) vs Hugo Tourner (30/1) : 3/6 6/3 10/12* \n\n\n\nSimple 2 : Mathis Cassiot (30/4) vs Nicolas Carreau (30/2) : 0/6 3/6 \n\n\n\nDouble : Yann Bholah (30/1) & Kévin Duprat Moretto (30/2) vs Pablo Ruiz Dormet (30/1) & Hugo Durand (30/3) : 3/6 5/7 \n\n\n\nGras = Fontenillois /*Super tie-break
URL:https://tennis-fontenilles.fr/event/trophee-jeunes-ce-15-16-g-2/
CATEGORIES:Match par équipe Garçons
END:VEVENT
END:VCALENDAR